BEGIN:VCALENDAR
VERSION:2.0
CALSCALE:GREGORIAN
PRODID:adamgibbons/ics
METHOD:PUBLISH
X-PUBLISHED-TTL:PT1H
BEGIN:VEVENT
UID:27996@www.lubakiagenda.net
SUMMARY:KARMELA IREKITA
DTSTAMP:20260423T174458Z
DTSTART:20251016T153000Z
DTEND:20260630T193000Z
URL:https://www.lubakiagenda.net/event/karmela-irekita
GEO:43.2532831;-2.9176104
LOCATION:Karmela - Fika kalea 44 -Bilbo
STATUS:CONFIRMED
CATEGORIES:aisialdia,kafeta,liburutegia,patioa
END:VEVENT
END:VCALENDAR
