BEGIN:VCALENDAR
VERSION:2.0
CALSCALE:GREGORIAN
PRODID:adamgibbons/ics
METHOD:PUBLISH
X-PUBLISHED-TTL:PT1H
BEGIN:VEVENT
UID:31005@www.lubakiagenda.net
SUMMARY:ERREKALDEKO GAZTETXEEN IBILBIDE
DTSTAMP:20260423T215114Z
DTSTART:20260426T190000Z
URL:https://www.lubakiagenda.net/event/errekaldeko-gaztetxeen-ibilbide
LOCATION:Errekaldeko plaza - Bilbo
STATUS:CONFIRMED
CATEGORIES:ibilbidea
END:VEVENT
END:VCALENDAR
