BEGIN:VCALENDAR
VERSION:2.0
CALSCALE:GREGORIAN
PRODID:adamgibbons/ics
METHOD:PUBLISH
X-PUBLISHED-TTL:PT1H
BEGIN:VEVENT
UID:31067@www.lubakiagenda.net
SUMMARY:KONPLIZITATEARI EZ!! BOIKOT ISRAEL
DTSTAMP:20260423T190853Z
DTSTART:20260424T170000Z
URL:https://www.lubakiagenda.net/event/konplizitateari-ez-boikot-israel
LOCATION:Arriaga plaza - Bilbo
STATUS:CONFIRMED
CATEGORIES:boikot,kontzentrazioa,palestina
END:VEVENT
END:VCALENDAR
