BEGIN:VCALENDAR
VERSION:2.0
CALSCALE:GREGORIAN
PRODID:adamgibbons/ics
METHOD:PUBLISH
X-PUBLISHED-TTL:PT1H
BEGIN:VEVENT
UID:30845@www.lubakiagenda.net
SUMMARY:AUZOKORRO -Sormen lantegia-
DTSTAMP:20260419T172239Z
DTSTART:20260420T160000Z
DTEND:20260420T180000Z
URL:https://www.lubakiagenda.net/event/auzokorro-sormen-lantegia--4
GEO:43.3780135;-2.9909474
LOCATION:Larrabasterrako Auzoetxea - Loiola Ander deuna 41\, Larrabasterra
STATUS:CONFIRMED
CATEGORIES:auzokorro,sorkuntza,tailerra
END:VEVENT
END:VCALENDAR
