BEGIN:VCALENDAR
VERSION:2.0
CALSCALE:GREGORIAN
PRODID:adamgibbons/ics
METHOD:PUBLISH
X-PUBLISHED-TTL:PT1H
BEGIN:VEVENT
UID:30960@www.lubakiagenda.net
SUMMARY:Sin permiso. Ikerketa feministak euskal gatazkaren inguruan
DTSTAMP:20260421T083703Z
DTSTART:20260423T170000Z
URL:https://www.lubakiagenda.net/event/sin-permiso-ikerketa-feministak-eusk
	al-gatazkaren-inguruan
GEO:43.2435928;-2.8851986
LOCATION:Txarraska Gaztetxea - Cervantes Hiribidea\, 1\, Basauri
STATUS:CONFIRMED
CATEGORIES:EH,antirrepresiboa,feminismoa,mahaingurua
END:VEVENT
END:VCALENDAR
