BEGIN:VCALENDAR
VERSION:2.0
CALSCALE:GREGORIAN
PRODID:adamgibbons/ics
METHOD:PUBLISH
X-PUBLISHED-TTL:PT1H
BEGIN:VEVENT
UID:31042@www.lubakiagenda.net
SUMMARY:SUBFLUBIALA EZ
DTSTAMP:20260422T130308Z
DTSTART:20260422T160000Z
URL:https://www.lubakiagenda.net/event/subflubiala-ez-1
LOCATION:Artaza Parkea - Getxo
STATUS:CONFIRMED
CATEGORIES:prentsaurrekoa,ekologismoa,antidesarrollismoa
END:VEVENT
END:VCALENDAR
