BEGIN:VCALENDAR
VERSION:2.0
CALSCALE:GREGORIAN
PRODID:adamgibbons/ics
METHOD:PUBLISH
X-PUBLISHED-TTL:PT1H
BEGIN:VEVENT
UID:30868@www.lubakiagenda.net
SUMMARY:MUNDU BAT BILBON
DTSTAMP:20260421T083708Z
DTSTART:20260423T150000Z
DTEND:20260426T210000Z
URL:https://www.lubakiagenda.net/event/mundu-bat-bilbon-2
LOCATION:Xake Taberna - Bilbo Zaharra 17
STATUS:CONFIRMED
CATEGORIES:erakusketa
END:VEVENT
BEGIN:VEVENT
UID:30869@www.lubakiagenda.net
SUMMARY:MUNDU BAT BILBON
DTSTAMP:20260421T083708Z
DTSTART:20260503T150000Z
DTEND:20260503T210000Z
URL:https://www.lubakiagenda.net/event/mundu-bat-bilbon-3
LOCATION:Xake Taberna - Bilbo Zaharra 17
STATUS:CONFIRMED
CATEGORIES:erakusketa
END:VEVENT
BEGIN:VEVENT
UID:30870@www.lubakiagenda.net
SUMMARY:MUNDU BAT BILBON
DTSTAMP:20260421T083708Z
DTSTART:20260507T150000Z
DTEND:20260510T210000Z
URL:https://www.lubakiagenda.net/event/mundu-bat-bilbon-4
LOCATION:Xake Taberna - Bilbo Zaharra 17
STATUS:CONFIRMED
CATEGORIES:erakusketa
END:VEVENT
BEGIN:VEVENT
UID:30871@www.lubakiagenda.net
SUMMARY:MUNDU BAT BILBON
DTSTAMP:20260421T083708Z
DTSTART:20260514T150000Z
DTEND:20260517T210000Z
URL:https://www.lubakiagenda.net/event/mundu-bat-bilbon-5
LOCATION:Xake Taberna - Bilbo Zaharra 17
STATUS:CONFIRMED
CATEGORIES:erakusketa
END:VEVENT
BEGIN:VEVENT
UID:30872@www.lubakiagenda.net
SUMMARY:MUNDU BAT BILBON
DTSTAMP:20260421T083708Z
DTSTART:20260521T150000Z
DTEND:20260524T210000Z
URL:https://www.lubakiagenda.net/event/mundu-bat-bilbon-6
LOCATION:Xake Taberna - Bilbo Zaharra 17
STATUS:CONFIRMED
CATEGORIES:erakusketa
END:VEVENT
BEGIN:VEVENT
UID:30873@www.lubakiagenda.net
SUMMARY:MUNDU BAT BILBON
DTSTAMP:20260421T083708Z
DTSTART:20260528T150000Z
DTEND:20260531T210000Z
URL:https://www.lubakiagenda.net/event/mundu-bat-bilbon-7
LOCATION:Xake Taberna - Bilbo Zaharra 17
STATUS:CONFIRMED
CATEGORIES:erakusketa
END:VEVENT
BEGIN:VEVENT
UID:30874@www.lubakiagenda.net
SUMMARY:MUNDU BAT BILBON
DTSTAMP:20260421T083708Z
DTSTART:20260528T150000Z
DTEND:20260531T210000Z
URL:https://www.lubakiagenda.net/event/mundu-bat-bilbon-8
LOCATION:Xake Taberna - Bilbo Zaharra 17
STATUS:CONFIRMED
CATEGORIES:
END:VEVENT
BEGIN:VEVENT
UID:30875@www.lubakiagenda.net
SUMMARY:MUNDU BAT BILBON
DTSTAMP:20260421T083708Z
DTSTART:20260604T150000Z
DTEND:20260607T210000Z
URL:https://www.lubakiagenda.net/event/mundu-bat-bilbon-9
LOCATION:Xake Taberna - Bilbo Zaharra 17
STATUS:CONFIRMED
CATEGORIES:erakusketa
END:VEVENT
BEGIN:VEVENT
UID:30867@www.lubakiagenda.net
SUMMARY:MUNDU BAT BILBON
DTSTAMP:20260421T083708Z
DTSTART:20260611T150000Z
DTEND:20260614T210000Z
URL:https://www.lubakiagenda.net/event/mundu-bat-bilbon-1
LOCATION:Xake Taberna - Bilbo Zaharra 17
STATUS:CONFIRMED
CATEGORIES:erakusketa
END:VEVENT
END:VCALENDAR
