BEGIN:VCALENDAR
VERSION:2.0
CALSCALE:GREGORIAN
PRODID:adamgibbons/ics
METHOD:PUBLISH
X-PUBLISHED-TTL:PT1H
BEGIN:VEVENT
UID:30823@www.lubakiagenda.net
SUMMARY:EUSKAL LANGILERIAREN DEFENTSAN!: "Ilberri + Lenago Il" + Pintxada
DTSTAMP:20260421T095919Z
DTSTART:20260430T190000Z
URL:https://www.lubakiagenda.net/event/euskal-langileriaren-defentsan-ilber
	ri-lenago-il-pintxada
LOCATION:Azebarri - Getxo
STATUS:CONFIRMED
CATEGORIES:musika,pintxada,langile elkartasuna,kontzertuak
END:VEVENT
END:VCALENDAR
