BEGIN:VCALENDAR
VERSION:2.0
CALSCALE:GREGORIAN
PRODID:adamgibbons/ics
METHOD:PUBLISH
X-PUBLISHED-TTL:PT1H
BEGIN:VEVENT
UID:30822@www.lubakiagenda.net
SUMMARY:EUSKAL LANGILERIAREN DEFENTSAN!
DTSTAMP:20260421T083704Z
DTSTART:20260430T180000Z
URL:https://www.lubakiagenda.net/event/euskal-langileriaren-defentsan
LOCATION:Txiki Otaegi plaza - Getxo
STATUS:CONFIRMED
CATEGORIES:langile elkartasuna,kartelada
END:VEVENT
END:VCALENDAR
