BEGIN:VCALENDAR
VERSION:2.0
CALSCALE:GREGORIAN
PRODID:adamgibbons/ics
METHOD:PUBLISH
X-PUBLISHED-TTL:PT1H
BEGIN:VEVENT
UID:30889@www.lubakiagenda.net
SUMMARY:REGULACIÓN EXTRAORDINARIA DE MIGRANTES
DTSTAMP:20260419T171807Z
DTSTART:20260421T133000Z
URL:https://www.lubakiagenda.net/event/regulacion-extraordinaria-de-migrant
	es-1
LOCATION:Azeta kalea 4 - Sestao
STATUS:CONFIRMED
CATEGORIES:feminismoa,aholkularitza
END:VEVENT
END:VCALENDAR
