BEGIN:VCALENDAR
VERSION:2.0
CALSCALE:GREGORIAN
PRODID:adamgibbons/ics
METHOD:PUBLISH
X-PUBLISHED-TTL:PT1H
BEGIN:VEVENT
UID:30958@www.lubakiagenda.net
SUMMARY:SAN FRANTZISKON\, ARRAZAKERIARI EZ! Ez irentsi alderdi faxisten amu
	a
DTSTAMP:20260419T171352Z
DTSTART:20260420T153000Z
URL:https://www.lubakiagenda.net/event/san-frantziskon-arrazakeriari-ez-ez-
	irentsi-alderdi-faxisten-amua
LOCATION:Mariaren Bihotza plaza - Bilbo
STATUS:CONFIRMED
CATEGORIES:antifaxismoa,antiarrazakeria,kontzentrazioa
END:VEVENT
BEGIN:VEVENT
UID:30918@www.lubakiagenda.net
SUMMARY:Josefaren Heriotza Bilboko Plazan
DTSTAMP:20260419T171352Z
DTSTART:20260425T090000Z
URL:https://www.lubakiagenda.net/event/josefaren-heriotza-bilboko-plazan
LOCATION:Mariaren Bihotza plaza - Bilbo
STATUS:CONFIRMED
CATEGORIES:bisita gidatua
END:VEVENT
END:VCALENDAR
