BEGIN:VCALENDAR
VERSION:2.0
CALSCALE:GREGORIAN
PRODID:adamgibbons/ics
METHOD:PUBLISH
X-PUBLISHED-TTL:PT1H
BEGIN:VEVENT
UID:30962@www.lubakiagenda.net
SUMMARY:BARIKUTAKO JANTOKIA
DTSTAMP:20260419T152839Z
DTSTART:20260501T120000Z
URL:https://www.lubakiagenda.net/event/barikutako-jantokia-1
LOCATION:Sarean - Mariaren Bihotza Plaza 4
STATUS:CONFIRMED
CATEGORIES:bazkaria,burujabetza
END:VEVENT
BEGIN:VEVENT
UID:30858@www.lubakiagenda.net
SUMMARY:BONE FLOWER + SICK THOUGHTS + ZETA
DTSTAMP:20260419T152839Z
DTSTART:20260502T170000Z
URL:https://www.lubakiagenda.net/event/bone-flower-sick-thoughts-zeta
LOCATION:Sarean - Mariaren Bihotza Plaza 4
STATUS:CONFIRMED
CATEGORIES:kontzertuak
END:VEVENT
BEGIN:VEVENT
UID:30956@www.lubakiagenda.net
SUMMARY:GLUE + SOGA
DTSTAMP:20260419T152839Z
DTSTART:20260512T180000Z
URL:https://www.lubakiagenda.net/event/glue-soga
LOCATION:Sarean - Mariaren Bihotza Plaza 4
STATUS:CONFIRMED
CATEGORIES:kontzertuak
END:VEVENT
END:VCALENDAR
