BEGIN:VCALENDAR
VERSION:2.0
CALSCALE:GREGORIAN
PRODID:adamgibbons/ics
METHOD:PUBLISH
X-PUBLISHED-TTL:PT1H
BEGIN:VEVENT
UID:28046@www.lubakiagenda.net
SUMMARY:SALSA KLASEAK
DTSTAMP:20260424T144102Z
DTSTART:20260424T160000Z
URL:https://www.lubakiagenda.net/event/salsa-klaseak-12
LOCATION:Errondoko Auzoetxea - Navarro Villoslada kalea 12\, San Inazio
STATUS:CONFIRMED
CATEGORIES:kirolak,dantza
END:VEVENT
BEGIN:VEVENT
UID:30972@www.lubakiagenda.net
SUMMARY:BOXEOA
DTSTAMP:20260424T144102Z
DTSTART:20260425T100000Z
URL:https://www.lubakiagenda.net/event/boxeoa-9
LOCATION:Errondoko Auzoetxea - Navarro Villoslada kalea 12\, San Inazio
STATUS:CONFIRMED
CATEGORIES:kirolak,boxeoa
END:VEVENT
BEGIN:VEVENT
UID:31009@www.lubakiagenda.net
SUMMARY:BOXEOA
DTSTAMP:20260424T144102Z
DTSTART:20260428T093000Z
URL:https://www.lubakiagenda.net/event/boxeoa-44
LOCATION:Errondoko Auzoetxea - Navarro Villoslada kalea 12\, San Inazio
STATUS:CONFIRMED
CATEGORIES:kirolak,boxeoa
END:VEVENT
BEGIN:VEVENT
UID:31091@www.lubakiagenda.net
SUMMARY:BOXEOA
DTSTAMP:20260424T144102Z
DTSTART:20260430T170000Z
URL:https://www.lubakiagenda.net/event/boxeoa-64
LOCATION:Errondoko Auzoetxea - Navarro Villoslada kalea 12\, San Inazio
STATUS:CONFIRMED
CATEGORIES:boxeoa,kirolak
END:VEVENT
BEGIN:VEVENT
UID:30536@www.lubakiagenda.net
SUMMARY:Ziris + Miin + Kyuraura Dj + Irati Dj
DTSTAMP:20260424T144102Z
DTSTART:20260502T160000Z
URL:https://www.lubakiagenda.net/event/ziris-miin-kyuraura-dj-irati-dj
LOCATION:Errondoko Auzoetxea - Navarro Villoslada kalea 12\, San Inazio
STATUS:CONFIRMED
CATEGORIES:dj,musika,kontzertuak
END:VEVENT
BEGIN:VEVENT
UID:28047@www.lubakiagenda.net
SUMMARY:SALSA KLASEAK
DTSTAMP:20260424T144102Z
DTSTART:20260515T160000Z
URL:https://www.lubakiagenda.net/event/salsa-klaseak-13
LOCATION:Errondoko Auzoetxea - Navarro Villoslada kalea 12\, San Inazio
STATUS:CONFIRMED
CATEGORIES:tailerra,dantza
END:VEVENT
BEGIN:VEVENT
UID:28048@www.lubakiagenda.net
SUMMARY:SALSA KLASEAK
DTSTAMP:20260424T144102Z
DTSTART:20260529T160000Z
URL:https://www.lubakiagenda.net/event/salsa-klaseak-14
LOCATION:Errondoko Auzoetxea - Navarro Villoslada kalea 12\, San Inazio
STATUS:CONFIRMED
CATEGORIES:dantza,tailerra
END:VEVENT
BEGIN:VEVENT
UID:28049@www.lubakiagenda.net
SUMMARY:SALSA KLASEAK
DTSTAMP:20260424T144102Z
DTSTART:20260612T160000Z
URL:https://www.lubakiagenda.net/event/salsa-klaseak-15
LOCATION:Errondoko Auzoetxea - Navarro Villoslada kalea 12\, San Inazio
STATUS:CONFIRMED
CATEGORIES:dantza,tailerra
END:VEVENT
BEGIN:VEVENT
UID:28050@www.lubakiagenda.net
SUMMARY:SALSA KLASEAK
DTSTAMP:20260424T144102Z
DTSTART:20260626T160000Z
URL:https://www.lubakiagenda.net/event/salsa-klaseak-16
LOCATION:Errondoko Auzoetxea - Navarro Villoslada kalea 12\, San Inazio
STATUS:CONFIRMED
CATEGORIES:dantza,tailerra
END:VEVENT
END:VCALENDAR
