BEGIN:VCALENDAR
VERSION:2.0
CALSCALE:GREGORIAN
PRODID:adamgibbons/ics
METHOD:PUBLISH
X-PUBLISHED-TTL:PT1H
BEGIN:VEVENT
UID:30945@www.lubakiagenda.net
SUMMARY:LIBURUTEGIA
DTSTAMP:20260423T174452Z
DTSTART:20260423T160000Z
DTEND:20260423T180000Z
URL:https://www.lubakiagenda.net/event/liburutegia-4
GEO:43.2435928;-2.8851986
LOCATION:Txarraska Gaztetxea - Cervantes Hiribidea\, 1\, Basauri
STATUS:CONFIRMED
CATEGORIES:liburutegia
END:VEVENT
BEGIN:VEVENT
UID:30650@www.lubakiagenda.net
SUMMARY:TXARRASKALA JAIALDIA
DTSTAMP:20260423T174452Z
DTSTART:20260425T150000Z
DTEND:20260425T190000Z
URL:https://www.lubakiagenda.net/event/txarraskala-jaialdia
GEO:43.2435928;-2.8851986
LOCATION:Txarraska Gaztetxea - Cervantes Hiribidea\, 1\, Basauri
STATUS:CONFIRMED
CATEGORIES:kirolak,pintxada,musika,Bj,lehiaketa,eskalada,jaialdia,zozketa,p
	intxoteoa,rokodromoa
END:VEVENT
BEGIN:VEVENT
UID:30996@www.lubakiagenda.net
SUMMARY:BOXEO
DTSTAMP:20260423T174452Z
DTSTART:20260427T150000Z
DTEND:20260427T160000Z
URL:https://www.lubakiagenda.net/event/boxeo-5
GEO:43.2435928;-2.8851986
LOCATION:Txarraska Gaztetxea - Cervantes Hiribidea\, 1\, Basauri
STATUS:CONFIRMED
CATEGORIES:boxeoa,kirolak
END:VEVENT
BEGIN:VEVENT
UID:30993@www.lubakiagenda.net
SUMMARY:IKASLE TXOKOA
DTSTAMP:20260423T174452Z
DTSTART:20260427T150000Z
DTEND:20260427T170000Z
URL:https://www.lubakiagenda.net/event/ikasle-txokoa-4
GEO:43.2435928;-2.8851986
LOCATION:Txarraska Gaztetxea - Cervantes Hiribidea\, 1\, Basauri
STATUS:CONFIRMED
CATEGORIES:liburutegia
END:VEVENT
BEGIN:VEVENT
UID:30995@www.lubakiagenda.net
SUMMARY:YOGA ETA MEDITAZIOA
DTSTAMP:20260423T174452Z
DTSTART:20260427T160000Z
DTEND:20260427T173000Z
URL:https://www.lubakiagenda.net/event/yoga-eta-meditazioa-4
GEO:43.2435928;-2.8851986
LOCATION:Txarraska Gaztetxea - Cervantes Hiribidea\, 1\, Basauri
STATUS:CONFIRMED
CATEGORIES:kirolak,yoga
END:VEVENT
BEGIN:VEVENT
UID:31000@www.lubakiagenda.net
SUMMARY:ASANBLADA
DTSTAMP:20260423T174452Z
DTSTART:20260427T173000Z
DTEND:20260427T190000Z
URL:https://www.lubakiagenda.net/event/asanblada-7
GEO:43.2435928;-2.8851986
LOCATION:Txarraska Gaztetxea - Cervantes Hiribidea\, 1\, Basauri
STATUS:CONFIRMED
CATEGORIES:asanblada
END:VEVENT
BEGIN:VEVENT
UID:31017@www.lubakiagenda.net
SUMMARY:BOXEO HASTAPENA
DTSTAMP:20260423T174452Z
DTSTART:20260428T150000Z
DTEND:20260428T160000Z
URL:https://www.lubakiagenda.net/event/boxeo-hastapena-3
GEO:43.2435928;-2.8851986
LOCATION:Txarraska Gaztetxea - Cervantes Hiribidea\, 1\, Basauri
STATUS:CONFIRMED
CATEGORIES:boxeoa,kirolak
END:VEVENT
BEGIN:VEVENT
UID:31031@www.lubakiagenda.net
SUMMARY:BOXEOA
DTSTAMP:20260423T174452Z
DTSTART:20260428T160000Z
DTEND:20260428T172000Z
URL:https://www.lubakiagenda.net/event/boxeoa-50
GEO:43.2435928;-2.8851986
LOCATION:Txarraska Gaztetxea - Cervantes Hiribidea\, 1\, Basauri
STATUS:CONFIRMED
CATEGORIES:kirolak,boxeoa
END:VEVENT
BEGIN:VEVENT
UID:31014@www.lubakiagenda.net
SUMMARY:TXARRASKALA
DTSTAMP:20260423T174452Z
DTSTART:20260428T160000Z
DTEND:20260428T190000Z
URL:https://www.lubakiagenda.net/event/txarraskala-2
GEO:43.2435928;-2.8851986
LOCATION:Txarraska Gaztetxea - Cervantes Hiribidea\, 1\, Basauri
STATUS:CONFIRMED
CATEGORIES:kirolak,rokodromoa
END:VEVENT
BEGIN:VEVENT
UID:31054@www.lubakiagenda.net
SUMMARY:K1
DTSTAMP:20260423T174452Z
DTSTART:20260429T160000Z
DTEND:20260429T180000Z
URL:https://www.lubakiagenda.net/event/k1-2
GEO:43.2435928;-2.8851986
LOCATION:Txarraska Gaztetxea - Cervantes Hiribidea\, 1\, Basauri
STATUS:CONFIRMED
CATEGORIES:boxeoa,kirolak
END:VEVENT
BEGIN:VEVENT
UID:31062@www.lubakiagenda.net
SUMMARY:IKASLE TXOKOA
DTSTAMP:20260423T174452Z
DTSTART:20260429T160000Z
DTEND:20260429T180000Z
URL:https://www.lubakiagenda.net/event/ikasle-txokoa-7
GEO:43.2435928;-2.8851986
LOCATION:Txarraska Gaztetxea - Cervantes Hiribidea\, 1\, Basauri
STATUS:CONFIRMED
CATEGORIES:liburutegia
END:VEVENT
BEGIN:VEVENT
UID:31059@www.lubakiagenda.net
SUMMARY:TXARRASKALA
DTSTAMP:20260423T174452Z
DTSTART:20260429T160000Z
DTEND:20260429T190000Z
URL:https://www.lubakiagenda.net/event/txarraskala-6
GEO:43.2435928;-2.8851986
LOCATION:Txarraska Gaztetxea - Cervantes Hiribidea\, 1\, Basauri
STATUS:CONFIRMED
CATEGORIES:rokodromoa,kirolak
END:VEVENT
BEGIN:VEVENT
UID:31061@www.lubakiagenda.net
SUMMARY:TXALAPARTA
DTSTAMP:20260423T174452Z
DTSTART:20260429T173000Z
DTEND:20260429T200000Z
URL:https://www.lubakiagenda.net/event/txalaparta-7
GEO:43.2435928;-2.8851986
LOCATION:Txarraska Gaztetxea - Cervantes Hiribidea\, 1\, Basauri
STATUS:CONFIRMED
CATEGORIES:txalaparta,tailerra
END:VEVENT
BEGIN:VEVENT
UID:31074@www.lubakiagenda.net
SUMMARY:TRUCAREC
DTSTAMP:20260423T174452Z
DTSTART:20260430T150000Z
DTEND:20260430T173000Z
URL:https://www.lubakiagenda.net/event/trucarec-1
GEO:43.2435928;-2.8851986
LOCATION:Txarraska Gaztetxea - Cervantes Hiribidea\, 1\, Basauri
STATUS:CONFIRMED
CATEGORIES:sorkuntza,tailerra,joskintza
END:VEVENT
BEGIN:VEVENT
UID:31046@www.lubakiagenda.net
SUMMARY:El entusiasmo y las desdichas del trabajador cultural
DTSTAMP:20260423T174452Z
DTSTART:20260514T170000Z
URL:https://www.lubakiagenda.net/event/el-entusiasmo-y-las-desdichas-del-tr
	abajador-cultural
GEO:43.2435928;-2.8851986
LOCATION:Txarraska Gaztetxea - Cervantes Hiribidea\, 1\, Basauri
STATUS:CONFIRMED
CATEGORIES:sorkuntza,irakurleen txokoa
END:VEVENT
BEGIN:VEVENT
UID:31047@www.lubakiagenda.net
SUMMARY:El entusiasmo y las desdichas del trabajador cultural
DTSTAMP:20260423T174452Z
DTSTART:20260521T170000Z
URL:https://www.lubakiagenda.net/event/el-entusiasmo-y-las-desdichas-del-tr
	abajador-cultural-1
GEO:43.2435928;-2.8851986
LOCATION:Txarraska Gaztetxea - Cervantes Hiribidea\, 1\, Basauri
STATUS:CONFIRMED
CATEGORIES:irakurleen txokoa,sorkuntza
END:VEVENT
BEGIN:VEVENT
UID:30082@www.lubakiagenda.net
SUMMARY:IRAKURLE TALDE BAT: "Han cantado bingo" Lana Corujo
DTSTAMP:20260423T174452Z
DTSTART:20260521T170000Z
URL:https://www.lubakiagenda.net/event/irakurle-talde-bat-las-gratitudes-de
	lphine-de-vigan
GEO:43.2435928;-2.8851986
LOCATION:Txarraska Gaztetxea - Cervantes Hiribidea\, 1\, Basauri
STATUS:CONFIRMED
CATEGORIES:irakurleen txokoa
END:VEVENT
BEGIN:VEVENT
UID:31048@www.lubakiagenda.net
SUMMARY:La función social del arte
DTSTAMP:20260423T174452Z
DTSTART:20260604T170000Z
URL:https://www.lubakiagenda.net/event/la-funcion-social-del-arte
GEO:43.2435928;-2.8851986
LOCATION:Txarraska Gaztetxea - Cervantes Hiribidea\, 1\, Basauri
STATUS:CONFIRMED
CATEGORIES:sorkuntza,irakurleen txokoa
END:VEVENT
BEGIN:VEVENT
UID:31049@www.lubakiagenda.net
SUMMARY:La función social del arte
DTSTAMP:20260423T174452Z
DTSTART:20260611T170000Z
URL:https://www.lubakiagenda.net/event/la-funcion-social-del-arte-1
GEO:43.2435928;-2.8851986
LOCATION:Txarraska Gaztetxea - Cervantes Hiribidea\, 1\, Basauri
STATUS:CONFIRMED
CATEGORIES:irakurleen txokoa,sorkuntza
END:VEVENT
BEGIN:VEVENT
UID:30083@www.lubakiagenda.net
SUMMARY:IRAKURLE TALDE BAT: "Yeguas exhaustas" Bibiana Collado
DTSTAMP:20260423T174452Z
DTSTART:20260618T170000Z
URL:https://www.lubakiagenda.net/event/irakurle-talde-bat-yeguas-exhaustas-
	bibiana-collado
GEO:43.2435928;-2.8851986
LOCATION:Txarraska Gaztetxea - Cervantes Hiribidea\, 1\, Basauri
STATUS:CONFIRMED
CATEGORIES:irakurleen txokoa
END:VEVENT
END:VCALENDAR
