BEGIN:VCALENDAR
VERSION:2.0
CALSCALE:GREGORIAN
PRODID:adamgibbons/ics
METHOD:PUBLISH
X-PUBLISHED-TTL:PT1H
BEGIN:VEVENT
UID:27537@www.lubakiagenda.net
SUMMARY:DDT diru bilketa
DTSTAMP:20260423T174626Z
DTSTART:20250904T150000Z
DTEND:20260731T183000Z
URL:https://www.lubakiagenda.net/event/ddt-denda-1
GEO:43.255281;-2.925226
LOCATION:DDT - Martzana kaia 5\, Bilbao
STATUS:CONFIRMED
CATEGORIES:autogestioa,kontrakultura,diy
END:VEVENT
END:VCALENDAR
