BEGIN:VCALENDAR
VERSION:2.0
CALSCALE:GREGORIAN
PRODID:adamgibbons/ics
METHOD:PUBLISH
X-PUBLISHED-TTL:PT1H
BEGIN:VEVENT
UID:30941@www.lubakiagenda.net
SUMMARY:Liburutegia Zabalik
DTSTAMP:20260423T174519Z
DTSTART:20260423T160000Z
DTEND:20260423T190000Z
URL:https://www.lubakiagenda.net/event/liburutegia-zabalik-3
GEO:43.3780135;-2.9909474
LOCATION:Larrabasterrako Auzoetxea - Loiola Ander deuna 41\, Larrabasterra
STATUS:CONFIRMED
CATEGORIES:plazabeltza,liburutegia,larrabasterrakoauzoetxea
END:VEVENT
BEGIN:VEVENT
UID:31034@www.lubakiagenda.net
SUMMARY:Hamaika irakurtzeko jaioak - Liburuen aurkezpena + solasaldi filoso
	fikoa + sorpesa...
DTSTAMP:20260423T174519Z
DTSTART:20260423T170000Z
DTEND:20260423T190000Z
URL:https://www.lubakiagenda.net/event/hamaika-irakurtzeko-jaioak-liburuen-
	aurkezpena-solasaldi-filosofikoa-sorpesa
GEO:43.3780135;-2.9909474
LOCATION:Larrabasterrako Auzoetxea - Loiola Ander deuna 41\, Larrabasterra
STATUS:CONFIRMED
CATEGORIES:liburu aurkezpena,liburutegia,antzerkia
END:VEVENT
BEGIN:VEVENT
UID:30947@www.lubakiagenda.net
SUMMARY:Tarot Ebolutiboko Taldea – Arkano Nagusiak
DTSTAMP:20260423T174519Z
DTSTART:20260423T170000Z
DTEND:20260423T183000Z
URL:https://www.lubakiagenda.net/event/tarot-ebolutiboko-taldea-arkano-nagu
	siak-4
GEO:43.3780135;-2.9909474
LOCATION:Larrabasterrako Auzoetxea - Loiola Ander deuna 41\, Larrabasterra
STATUS:CONFIRMED
CATEGORIES:
END:VEVENT
BEGIN:VEVENT
UID:31035@www.lubakiagenda.net
SUMMARY:Kontzertuak : BUIAH + GOODBYE KEPPLER
DTSTAMP:20260423T174519Z
DTSTART:20260424T173000Z
DTEND:20260424T200000Z
URL:https://www.lubakiagenda.net/event/kontzertuak-buiah-goodbye-keppler
GEO:43.3780135;-2.9909474
LOCATION:Larrabasterrako Auzoetxea - Loiola Ander deuna 41\, Larrabasterra
STATUS:CONFIRMED
CATEGORIES:kontzertuak
END:VEVENT
BEGIN:VEVENT
UID:30988@www.lubakiagenda.net
SUMMARY:"Buiah + Goodbye Klepper"
DTSTAMP:20260423T174519Z
DTSTART:20260424T173000Z
URL:https://www.lubakiagenda.net/event/buiah-goodbye-klepper
GEO:43.3780135;-2.9909474
LOCATION:Larrabasterrako Auzoetxea - Loiola Ander deuna 41\, Larrabasterra
STATUS:CONFIRMED
CATEGORIES:kontzertuak
END:VEVENT
BEGIN:VEVENT
UID:31036@www.lubakiagenda.net
SUMMARY:KONTZERTUAK
DTSTAMP:20260423T174519Z
DTSTART:20260425T160000Z
DTEND:20260425T200000Z
URL:https://www.lubakiagenda.net/event/kontzertuak
GEO:43.3780135;-2.9909474
LOCATION:Larrabasterrako Auzoetxea - Loiola Ander deuna 41\, Larrabasterra
STATUS:CONFIRMED
CATEGORIES:
END:VEVENT
BEGIN:VEVENT
UID:30989@www.lubakiagenda.net
SUMMARY:DISRESPECTFUL TOUR 2026
DTSTAMP:20260423T174519Z
DTSTART:20260425T170000Z
URL:https://www.lubakiagenda.net/event/disrespectful-tour-2026
GEO:43.3780135;-2.9909474
LOCATION:Larrabasterrako Auzoetxea - Loiola Ander deuna 41\, Larrabasterra
STATUS:CONFIRMED
CATEGORIES:kontzertuak
END:VEVENT
BEGIN:VEVENT
UID:30998@www.lubakiagenda.net
SUMMARY:AUZOKORRO -Sormen lantegia-
DTSTAMP:20260423T174519Z
DTSTART:20260427T160000Z
DTEND:20260427T180000Z
URL:https://www.lubakiagenda.net/event/auzokorro-sormen-lantegia--5
GEO:43.3780135;-2.9909474
LOCATION:Larrabasterrako Auzoetxea - Loiola Ander deuna 41\, Larrabasterra
STATUS:CONFIRMED
CATEGORIES:auzokorro,sorkuntza,tailerra
END:VEVENT
BEGIN:VEVENT
UID:30992@www.lubakiagenda.net
SUMMARY:Asanbladak
DTSTAMP:20260423T174519Z
DTSTART:20260427T160000Z
DTEND:20260427T180000Z
URL:https://www.lubakiagenda.net/event/asanbladak-4
GEO:43.3780135;-2.9909474
LOCATION:Larrabasterrako Auzoetxea - Loiola Ander deuna 41\, Larrabasterra
STATUS:CONFIRMED
CATEGORIES:liburutegia,musikagela,larrabasterrakoauzoetxea,asanblada
END:VEVENT
BEGIN:VEVENT
UID:31070@www.lubakiagenda.net
SUMMARY:METRO GEHIAGO URIBE KOSTAN
DTSTAMP:20260423T174519Z
DTSTART:20260428T170000Z
URL:https://www.lubakiagenda.net/event/metro-gehiago-uribe-kostan
GEO:43.3780135;-2.9909474
LOCATION:Larrabasterrako Auzoetxea - Loiola Ander deuna 41\, Larrabasterra
STATUS:CONFIRMED
CATEGORIES:antidesarrollismoa,ekologismoa
END:VEVENT
BEGIN:VEVENT
UID:30697@www.lubakiagenda.net
SUMMARY:KATAKONBA - Fanzine autoedizio eta kontrakultur topaketa
DTSTAMP:20260423T174519Z
DTSTART:20260530T100000Z
DTEND:20260531T180000Z
URL:https://www.lubakiagenda.net/event/katakonba-fanzine-autoedizio-eta-kon
	trakultur-topaketa
GEO:43.3780135;-2.9909474
LOCATION:Larrabasterrako Auzoetxea - Loiola Ander deuna 41\, Larrabasterra
STATUS:CONFIRMED
CATEGORIES:kontrakultura,topaketa,autoedizioa,azoka,fanzinea
END:VEVENT
END:VCALENDAR
