BEGIN:VCALENDAR
VERSION:2.0
CALSCALE:GREGORIAN
PRODID:adamgibbons/ics
METHOD:PUBLISH
X-PUBLISHED-TTL:PT1H
BEGIN:VEVENT
UID:30584@www.lubakiagenda.net
SUMMARY:SOMBRA (Asturias) + CORDURA  (Bilbao)
DTSTAMP:20260424T103257Z
DTSTART:20260424T180000Z
DTEND:20260424T203000Z
URL:https://www.lubakiagenda.net/event/sombra-asturias-cordura-bilbao
GEO:43.271046;-2.9433757
LOCATION:Lakobra - Blas de Otero 4 (viverotik sartzen da) Deustu
STATUS:CONFIRMED
CATEGORIES:kontzertuak
END:VEVENT
BEGIN:VEVENT
UID:31015@www.lubakiagenda.net
SUMMARY:LAN EGUNA
DTSTAMP:20260424T103257Z
DTSTART:20260428T150000Z
DTEND:20260428T190000Z
URL:https://www.lubakiagenda.net/event/lan-eguna-2
GEO:43.271046;-2.9433757
LOCATION:Lakobra - Blas de Otero 4 (viverotik sartzen da) Deustu
STATUS:CONFIRMED
CATEGORIES:laneguna
END:VEVENT
BEGIN:VEVENT
UID:30913@www.lubakiagenda.net
SUMMARY:Elena Aitzkoa + Zheng Hao + Alex Reviriego + Tom Chant + Fernando U
	lzion + Jon Mantxi
DTSTAMP:20260424T103257Z
DTSTART:20260429T170000Z
URL:https://www.lubakiagenda.net/event/elena-aitzkoa-zheng-hao-alex-revirie
	go-tom-chant-fernando-ulzion-jon-mantxi
GEO:43.271046;-2.9433757
LOCATION:Lakobra - Blas de Otero 4 (viverotik sartzen da) Deustu
STATUS:CONFIRMED
CATEGORIES:kontzertuak
END:VEVENT
BEGIN:VEVENT
UID:31038@www.lubakiagenda.net
SUMMARY:"Despite Everything its still you + Foscø + Calathea"
DTSTAMP:20260424T103257Z
DTSTART:20260509T170000Z
URL:https://www.lubakiagenda.net/event/despite-everything-its-still-you-fos
	co-calathea
GEO:43.271046;-2.9433757
LOCATION:Lakobra - Blas de Otero 4 (viverotik sartzen da) Deustu
STATUS:CONFIRMED
CATEGORIES:kontzertuak
END:VEVENT
BEGIN:VEVENT
UID:30408@www.lubakiagenda.net
SUMMARY:DESENTERRADOR XXI URTEURRENA: II. PASEA: "GRINGO + NORMAN BATES + B
	ELIER + DOLERME + SEDATE"
DTSTAMP:20260424T103257Z
DTSTART:20260516T150000Z
URL:https://www.lubakiagenda.net/event/desenterrador-xxi-urteurrena-ii-pase
	a-gringo-norman-bates-belier-dolerme-sedate
GEO:43.271046;-2.9433757
LOCATION:Lakobra - Blas de Otero 4 (viverotik sartzen da) Deustu
STATUS:CONFIRMED
CATEGORIES:kontzertuak,Urteurrena,irrati librea
END:VEVENT
BEGIN:VEVENT
UID:31039@www.lubakiagenda.net
SUMMARY:"Uzu + Yunk + Calzados Deportivos"
DTSTAMP:20260424T103257Z
DTSTART:20260521T180000Z
URL:https://www.lubakiagenda.net/event/uzu-yunk-calzados-deportivos
GEO:43.271046;-2.9433757
LOCATION:Lakobra - Blas de Otero 4 (viverotik sartzen da) Deustu
STATUS:CONFIRMED
CATEGORIES:kontzertuak
END:VEVENT
BEGIN:VEVENT
UID:29964@www.lubakiagenda.net
SUMMARY:FESTIVAL DE BANDAS FUGACES
DTSTAMP:20260424T103257Z
DTSTART:20260523T170000Z
URL:https://www.lubakiagenda.net/event/festival-de-bandas-fugaces
GEO:43.271046;-2.9433757
LOCATION:Lakobra - Blas de Otero 4 (viverotik sartzen da) Deustu
STATUS:CONFIRMED
CATEGORIES:jaialdia,musika,kontzertuak,zukzeukegin
END:VEVENT
BEGIN:VEVENT
UID:30410@www.lubakiagenda.net
SUMMARY:SVDESTADA + KNIVES
DTSTAMP:20260424T103257Z
DTSTART:20260529T180000Z
URL:https://www.lubakiagenda.net/event/svdestada-knives
GEO:43.271046;-2.9433757
LOCATION:Lakobra - Blas de Otero 4 (viverotik sartzen da) Deustu
STATUS:CONFIRMED
CATEGORIES:kontzertuak
END:VEVENT
BEGIN:VEVENT
UID:30249@www.lubakiagenda.net
SUMMARY:APOCALYPTIC TRALLAFEST: "Pvrgatorii + Nedrocake + Malevolic + Molyk
	ote"
DTSTAMP:20260424T103257Z
DTSTART:20260613T160000Z
URL:https://www.lubakiagenda.net/event/apocalyptic-trallafest-pvrgatorii-ne
	drocake-malevolic-molykote
GEO:43.271046;-2.9433757
LOCATION:Lakobra - Blas de Otero 4 (viverotik sartzen da) Deustu
STATUS:CONFIRMED
CATEGORIES:kontzertuak
END:VEVENT
END:VCALENDAR
