BEGIN:VCALENDAR
VERSION:2.0
CALSCALE:GREGORIAN
PRODID:adamgibbons/ics
METHOD:PUBLISH
X-PUBLISHED-TTL:PT1H
BEGIN:VEVENT
UID:30969@www.lubakiagenda.net
SUMMARY:BOXEOA
DTSTAMP:20260423T220804Z
DTSTART:20260424T150000Z
URL:https://www.lubakiagenda.net/event/boxeoa-4
GEO:43.3216615;-3.0179679
LOCATION:Portuko Merkatua - Coscojales kalea 1 - Portugalete
STATUS:CONFIRMED
CATEGORIES:kirolak
END:VEVENT
BEGIN:VEVENT
UID:30964@www.lubakiagenda.net
SUMMARY:ZUBIRA ERRALDOI KONPARTSA
DTSTAMP:20260423T220804Z
DTSTART:20260424T160000Z
URL:https://www.lubakiagenda.net/event/zubira-erraldoi-konpartsa-1
GEO:43.3216615;-3.0179679
LOCATION:Portuko Merkatua - Coscojales kalea 1 - Portugalete
STATUS:CONFIRMED
CATEGORIES:
END:VEVENT
BEGIN:VEVENT
UID:30971@www.lubakiagenda.net
SUMMARY:ARABIAR KLASEAK
DTSTAMP:20260423T220804Z
DTSTART:20260425T080000Z
URL:https://www.lubakiagenda.net/event/arabiar-klaseak-2
GEO:43.3216615;-3.0179679
LOCATION:Portuko Merkatua - Coscojales kalea 1 - Portugalete
STATUS:CONFIRMED
CATEGORIES:tailerra,arabiera
END:VEVENT
BEGIN:VEVENT
UID:30973@www.lubakiagenda.net
SUMMARY:MAHAI JOLASAK
DTSTAMP:20260423T220804Z
DTSTART:20260426T140000Z
URL:https://www.lubakiagenda.net/event/mahai-jolasak-2
GEO:43.3216615;-3.0179679
LOCATION:Portuko Merkatua - Coscojales kalea 1 - Portugalete
STATUS:CONFIRMED
CATEGORIES:jolasak
END:VEVENT
BEGIN:VEVENT
UID:30841@www.lubakiagenda.net
SUMMARY:JOSKINTZA KREATIBOA
DTSTAMP:20260423T220804Z
DTSTART:20260427T160000Z
URL:https://www.lubakiagenda.net/event/joskintza-kreatiboa-1
GEO:43.3216615;-3.0179679
LOCATION:Portuko Merkatua - Coscojales kalea 1 - Portugalete
STATUS:CONFIRMED
CATEGORIES:tailerra,sorkuntza,joskintza
END:VEVENT
BEGIN:VEVENT
UID:31001@www.lubakiagenda.net
SUMMARY:BOXEOA
DTSTAMP:20260423T220804Z
DTSTART:20260427T163000Z
URL:https://www.lubakiagenda.net/event/boxeoa-12
GEO:43.3216615;-3.0179679
LOCATION:Portuko Merkatua - Coscojales kalea 1 - Portugalete
STATUS:CONFIRMED
CATEGORIES:kirolak
END:VEVENT
BEGIN:VEVENT
UID:31003@www.lubakiagenda.net
SUMMARY:AROTZERIA TAILERRA
DTSTAMP:20260423T220804Z
DTSTART:20260428T080000Z
URL:https://www.lubakiagenda.net/event/arotzeria-tailerra-2
GEO:43.3216615;-3.0179679
LOCATION:Portuko Merkatua - Coscojales kalea 1 - Portugalete
STATUS:CONFIRMED
CATEGORIES:tailerra
END:VEVENT
BEGIN:VEVENT
UID:31026@www.lubakiagenda.net
SUMMARY:BOXEOA
DTSTAMP:20260423T220804Z
DTSTART:20260428T083000Z
URL:https://www.lubakiagenda.net/event/boxeoa-45
GEO:43.3216615;-3.0179679
LOCATION:Portuko Merkatua - Coscojales kalea 1 - Portugalete
STATUS:CONFIRMED
CATEGORIES:kirolak
END:VEVENT
BEGIN:VEVENT
UID:31013@www.lubakiagenda.net
SUMMARY:MAHAI-JOKOAK DANONTZAKO
DTSTAMP:20260423T220804Z
DTSTART:20260428T153000Z
URL:https://www.lubakiagenda.net/event/mahai-jokoak-danontzako-1
GEO:43.3216615;-3.0179679
LOCATION:Portuko Merkatua - Coscojales kalea 1 - Portugalete
STATUS:CONFIRMED
CATEGORIES:jolasak,umeentzakoa
END:VEVENT
BEGIN:VEVENT
UID:31018@www.lubakiagenda.net
SUMMARY:CLUB DEL PUNTO
DTSTAMP:20260423T220804Z
DTSTART:20260428T160000Z
URL:https://www.lubakiagenda.net/event/club-del-punto-3
GEO:43.3216615;-3.0179679
LOCATION:Portuko Merkatua - Coscojales kalea 1 - Portugalete
STATUS:CONFIRMED
CATEGORIES:tailerra,sorkuntza
END:VEVENT
BEGIN:VEVENT
UID:31016@www.lubakiagenda.net
SUMMARY:OM CHANTING
DTSTAMP:20260423T220804Z
DTSTART:20260428T163000Z
URL:https://www.lubakiagenda.net/event/om-chanting-2
GEO:43.3216615;-3.0179679
LOCATION:Portuko Merkatua - Coscojales kalea 1 - Portugalete
STATUS:CONFIRMED
CATEGORIES:
END:VEVENT
BEGIN:VEVENT
UID:31033@www.lubakiagenda.net
SUMMARY:BOXEOA
DTSTAMP:20260423T220804Z
DTSTART:20260428T163000Z
URL:https://www.lubakiagenda.net/event/boxeoa-52
GEO:43.3216615;-3.0179679
LOCATION:Portuko Merkatua - Coscojales kalea 1 - Portugalete
STATUS:CONFIRMED
CATEGORIES:kirolak
END:VEVENT
BEGIN:VEVENT
UID:31069@www.lubakiagenda.net
SUMMARY:BOXEOA
DTSTAMP:20260423T220804Z
DTSTART:20260429T163000Z
URL:https://www.lubakiagenda.net/event/boxeoa-60
GEO:43.3216615;-3.0179679
LOCATION:Portuko Merkatua - Coscojales kalea 1 - Portugalete
STATUS:CONFIRMED
CATEGORIES:kirolak
END:VEVENT
BEGIN:VEVENT
UID:31064@www.lubakiagenda.net
SUMMARY:ASANBLADA
DTSTAMP:20260423T220804Z
DTSTART:20260429T170000Z
DTEND:20260429T183000Z
URL:https://www.lubakiagenda.net/event/asanblada-8
GEO:43.3216615;-3.0179679
LOCATION:Portuko Merkatua - Coscojales kalea 1 - Portugalete
STATUS:CONFIRMED
CATEGORIES:asanblada
END:VEVENT
BEGIN:VEVENT
UID:31072@www.lubakiagenda.net
SUMMARY:BOXEOA
DTSTAMP:20260423T220804Z
DTSTART:20260430T083000Z
URL:https://www.lubakiagenda.net/event/boxeoa-61
GEO:43.3216615;-3.0179679
LOCATION:Portuko Merkatua - Coscojales kalea 1 - Portugalete
STATUS:CONFIRMED
CATEGORIES:kirolak
END:VEVENT
BEGIN:VEVENT
UID:31089@www.lubakiagenda.net
SUMMARY:BOXEOA
DTSTAMP:20260423T220804Z
DTSTART:20260430T163000Z
URL:https://www.lubakiagenda.net/event/boxeoa-63
GEO:43.3216615;-3.0179679
LOCATION:Portuko Merkatua - Coscojales kalea 1 - Portugalete
STATUS:CONFIRMED
CATEGORIES:kirolak
END:VEVENT
BEGIN:VEVENT
UID:27791@www.lubakiagenda.net
SUMMARY:TRUKE AZOKA SOLIDARIOA
DTSTAMP:20260423T220804Z
DTSTART:20260510T090000Z
DTEND:20260510T120000Z
URL:https://www.lubakiagenda.net/event/truke-azoka-solidarioa-6
GEO:43.3216615;-3.0179679
LOCATION:Portuko Merkatua - Coscojales kalea 1 - Portugalete
STATUS:CONFIRMED
CATEGORIES:azoka,elkartasuna
END:VEVENT
BEGIN:VEVENT
UID:31041@www.lubakiagenda.net
SUMMARY:JARDUNALDI ANTIINPERIALISTAK. GERRA ETA BERRARMATZEAREN AURKA
DTSTAMP:20260423T220804Z
DTSTART:20260522T170000Z
DTEND:20260524T150000Z
URL:https://www.lubakiagenda.net/event/jardunaldi-antiinperialistak-gerra-e
	ta-berrarmatzearen-aurka
GEO:43.3216615;-3.0179679
LOCATION:Portuko Merkatua - Coscojales kalea 1 - Portugalete
STATUS:CONFIRMED
CATEGORIES:antiinperialismoa,antimilitarismoa,antifaxismoa,jardunaldiak
END:VEVENT
BEGIN:VEVENT
UID:27792@www.lubakiagenda.net
SUMMARY:TRUKE AZOKA SOLIDARIOA
DTSTAMP:20260423T220804Z
DTSTART:20260607T090000Z
DTEND:20260607T140000Z
URL:https://www.lubakiagenda.net/event/truke-azoka-solidarioa-7
GEO:43.3216615;-3.0179679
LOCATION:Portuko Merkatua - Coscojales kalea 1 - Portugalete
STATUS:CONFIRMED
CATEGORIES:elkartasuna,azoka
END:VEVENT
END:VCALENDAR
