BEGIN:VCALENDAR
VERSION:2.0
CALSCALE:GREGORIAN
PRODID:adamgibbons/ics
METHOD:PUBLISH
X-PUBLISHED-TTL:PT1H
BEGIN:VEVENT
UID:30946@www.lubakiagenda.net
SUMMARY:DANTZAK
DTSTAMP:20260423T174508Z
DTSTART:20260423T160000Z
DTEND:20260423T180000Z
URL:https://www.lubakiagenda.net/event/dantzak-4
LOCATION:Mamarigako Kultur Etxea - Nafarroa Auzunea\, Santurtzi
STATUS:CONFIRMED
CATEGORIES:dantzak,tailerra
END:VEVENT
BEGIN:VEVENT
UID:30944@www.lubakiagenda.net
SUMMARY:GAKORRATZA
DTSTAMP:20260423T174508Z
DTSTART:20260423T160000Z
DTEND:20260423T180000Z
URL:https://www.lubakiagenda.net/event/gakorratza-4
LOCATION:Mamarigako Kultur Etxea - Nafarroa Auzunea\, Santurtzi
STATUS:CONFIRMED
CATEGORIES:tailerra,sorkuntza
END:VEVENT
BEGIN:VEVENT
UID:30949@www.lubakiagenda.net
SUMMARY:EUSKARA: Maila ertaina
DTSTAMP:20260423T174508Z
DTSTART:20260423T170000Z
DTEND:20260423T183000Z
URL:https://www.lubakiagenda.net/event/euskara-maila-ertaina-7
LOCATION:Karmela - Fika kalea 44 -Bilbo
STATUS:CONFIRMED
CATEGORIES:tailerra,Euskara
END:VEVENT
BEGIN:VEVENT
UID:30967@www.lubakiagenda.net
SUMMARY:EUSKARA: Maila aurreratua
DTSTAMP:20260423T174508Z
DTSTART:20260424T153000Z
DTEND:20260424T170000Z
URL:https://www.lubakiagenda.net/event/euskara-maila-aurreratua-2
LOCATION:Karmela - Fika kalea 44 -Bilbo
STATUS:CONFIRMED
CATEGORIES:Euskara,tailerra
END:VEVENT
BEGIN:VEVENT
UID:30965@www.lubakiagenda.net
SUMMARY:ANTZERKI TAILERRA
DTSTAMP:20260423T174508Z
DTSTART:20260424T153000Z
URL:https://www.lubakiagenda.net/event/antzerki-tailerra-3
LOCATION:Mamarigako Kultur Etxea - Nafarroa Auzunea\, Santurtzi
STATUS:CONFIRMED
CATEGORIES:antzerki,tailerra
END:VEVENT
BEGIN:VEVENT
UID:30970@www.lubakiagenda.net
SUMMARY:EUSKAL DANTZAK
DTSTAMP:20260423T174508Z
DTSTART:20260424T160000Z
URL:https://www.lubakiagenda.net/event/euskal-dantzak-10
LOCATION:Danontzat Gaztetxea - Ondarreta ibilbidea\, Gorliz-Plentzia
STATUS:CONFIRMED
CATEGORIES:dantzak,tailerra
END:VEVENT
BEGIN:VEVENT
UID:30968@www.lubakiagenda.net
SUMMARY:KANTU POLIFONIKOAK
DTSTAMP:20260423T174508Z
DTSTART:20260424T170000Z
DTEND:20260424T190000Z
URL:https://www.lubakiagenda.net/event/kantu-polifonikoak-4
LOCATION:Mamarigako Kultur Etxea - Nafarroa Auzunea\, Santurtzi
STATUS:CONFIRMED
CATEGORIES:tailerra
END:VEVENT
BEGIN:VEVENT
UID:30971@www.lubakiagenda.net
SUMMARY:ARABIAR KLASEAK
DTSTAMP:20260423T174508Z
DTSTART:20260425T080000Z
URL:https://www.lubakiagenda.net/event/arabiar-klaseak-2
LOCATION:Portuko Merkatua - Coscojales kalea 1 - Portugalete
STATUS:CONFIRMED
CATEGORIES:arabiera,tailerra
END:VEVENT
BEGIN:VEVENT
UID:30656@www.lubakiagenda.net
SUMMARY:TXORI BARROTE 45. URTEURRENA
DTSTAMP:20260423T174508Z
DTSTART:20260425T100000Z
DTEND:20260425T220000Z
URL:https://www.lubakiagenda.net/event/txori-barrote-45-urteurrena
LOCATION:Errekaldeko plaza - Bilbo
STATUS:CONFIRMED
CATEGORIES:serigrafia,mural margoket,espetxeak apurtu,bazkaria,bazkalostea,
	Urteurrena,umeentzakoa,vermuteoa,kontzertuak,kalejira,tailerra,musika
END:VEVENT
BEGIN:VEVENT
UID:30990@www.lubakiagenda.net
SUMMARY:AKROYOGA
DTSTAMP:20260423T174508Z
DTSTART:20260427T160000Z
DTEND:20260427T190000Z
URL:https://www.lubakiagenda.net/event/akroyoga
LOCATION:Karmela - Fika kalea 44 -Bilbo
STATUS:CONFIRMED
CATEGORIES:tailerra,kirolak
END:VEVENT
BEGIN:VEVENT
UID:30998@www.lubakiagenda.net
SUMMARY:AUZOKORRO -Sormen lantegia-
DTSTAMP:20260423T174508Z
DTSTART:20260427T160000Z
DTEND:20260427T180000Z
URL:https://www.lubakiagenda.net/event/auzokorro-sormen-lantegia--5
LOCATION:Larrabasterrako Auzoetxea - Loiola Ander deuna 41\, Larrabasterra
STATUS:CONFIRMED
CATEGORIES:tailerra,sorkuntza,auzokorro
END:VEVENT
BEGIN:VEVENT
UID:30841@www.lubakiagenda.net
SUMMARY:JOSKINTZA KREATIBOA
DTSTAMP:20260423T174508Z
DTSTART:20260427T160000Z
URL:https://www.lubakiagenda.net/event/joskintza-kreatiboa-1
LOCATION:Portuko Merkatua - Coscojales kalea 1 - Portugalete
STATUS:CONFIRMED
CATEGORIES:joskintza,sorkuntza,tailerra
END:VEVENT
BEGIN:VEVENT
UID:30991@www.lubakiagenda.net
SUMMARY:TXALAPARTA
DTSTAMP:20260423T174508Z
DTSTART:20260427T160000Z
DTEND:20260427T190000Z
URL:https://www.lubakiagenda.net/event/txalaparta-4
LOCATION:Mamarigako Kultur Etxea - Nafarroa Auzunea\, Santurtzi
STATUS:CONFIRMED
CATEGORIES:tailerra,txalaparta
END:VEVENT
BEGIN:VEVENT
UID:30994@www.lubakiagenda.net
SUMMARY:BOXEOA
DTSTAMP:20260423T174508Z
DTSTART:20260427T163000Z
DTEND:20260427T190000Z
URL:https://www.lubakiagenda.net/event/boxeoa-5
LOCATION:Karmela - Fika kalea 44 -Bilbo
STATUS:CONFIRMED
CATEGORIES:tailerra,kirolak
END:VEVENT
BEGIN:VEVENT
UID:31004@www.lubakiagenda.net
SUMMARY:BOXEOA
DTSTAMP:20260423T174508Z
DTSTART:20260428T073000Z
DTEND:20260428T090000Z
URL:https://www.lubakiagenda.net/event/boxeoa-28
LOCATION:Karmela - Fika kalea 44 -Bilbo
STATUS:CONFIRMED
CATEGORIES:tailerra,kirolak,boxeoa
END:VEVENT
BEGIN:VEVENT
UID:31003@www.lubakiagenda.net
SUMMARY:AROTZERIA TAILERRA
DTSTAMP:20260423T174508Z
DTSTART:20260428T080000Z
URL:https://www.lubakiagenda.net/event/arotzeria-tailerra-2
LOCATION:Portuko Merkatua - Coscojales kalea 1 - Portugalete
STATUS:CONFIRMED
CATEGORIES:tailerra
END:VEVENT
BEGIN:VEVENT
UID:31008@www.lubakiagenda.net
SUMMARY:EUSKAL DANTZAK
DTSTAMP:20260423T174508Z
DTSTART:20260428T093000Z
DTEND:20260428T110000Z
URL:https://www.lubakiagenda.net/event/euskal-dantzak-4
LOCATION:Karmela - Fika kalea 44 -Bilbo
STATUS:CONFIRMED
CATEGORIES:tailerra,dantzak
END:VEVENT
BEGIN:VEVENT
UID:31050@www.lubakiagenda.net
SUMMARY:ERREZETA - LIBURU KOLEKTIBOA TAILERRA
DTSTAMP:20260423T174508Z
DTSTART:20260428T160000Z
DTEND:20260428T180000Z
URL:https://www.lubakiagenda.net/event/errezeta-liburu-kolektiboa-tailerra
LOCATION:Bilbo Zaharreko Kultur Etxea - Urazurrutia 7
STATUS:CONFIRMED
CATEGORIES:Liburuak,tailerra,gastronomikoa
END:VEVENT
BEGIN:VEVENT
UID:31018@www.lubakiagenda.net
SUMMARY:CLUB DEL PUNTO
DTSTAMP:20260423T174508Z
DTSTART:20260428T160000Z
URL:https://www.lubakiagenda.net/event/club-del-punto-3
LOCATION:Portuko Merkatua - Coscojales kalea 1 - Portugalete
STATUS:CONFIRMED
CATEGORIES:tailerra,sorkuntza
END:VEVENT
BEGIN:VEVENT
UID:31022@www.lubakiagenda.net
SUMMARY:JOSKINTZA
DTSTAMP:20260423T174508Z
DTSTART:20260428T160000Z
DTEND:20260428T180000Z
URL:https://www.lubakiagenda.net/event/joskintza-4
LOCATION:Mamarigako Kultur Etxea - Nafarroa Auzunea\, Santurtzi
STATUS:CONFIRMED
CATEGORIES:tailerra,sorkuntza
END:VEVENT
BEGIN:VEVENT
UID:31021@www.lubakiagenda.net
SUMMARY:EUSKARA: Hasierako maila
DTSTAMP:20260423T174508Z
DTSTART:20260428T170000Z
DTEND:20260428T183000Z
URL:https://www.lubakiagenda.net/event/euskara-hasierako-maila-3
LOCATION:Karmela - Fika kalea 44 -Bilbo
STATUS:CONFIRMED
CATEGORIES:tailerra,Euskara
END:VEVENT
BEGIN:VEVENT
UID:31037@www.lubakiagenda.net
SUMMARY:TAICHI
DTSTAMP:20260423T174508Z
DTSTART:20260429T073000Z
DTEND:20260429T090000Z
URL:https://www.lubakiagenda.net/event/taichi-4
LOCATION:Karmela - Fika kalea 44 -Bilbo
STATUS:CONFIRMED
CATEGORIES:kirolak,taichi,tailerra
END:VEVENT
BEGIN:VEVENT
UID:30545@www.lubakiagenda.net
SUMMARY:BIZIRAUPENEKO JOSTURA
DTSTAMP:20260423T174508Z
DTSTART:20260429T150000Z
DTEND:20260429T163000Z
URL:https://www.lubakiagenda.net/event/biziraupeneko-jostura-2
LOCATION:Puxka - Errekalde-Larraskitu errepidea 29\, Errekalde - Bilbo
STATUS:CONFIRMED
CATEGORIES:tailerra,joskintza
END:VEVENT
BEGIN:VEVENT
UID:31053@www.lubakiagenda.net
SUMMARY:PUNTU GURUTZE
DTSTAMP:20260423T174508Z
DTSTART:20260429T150000Z
DTEND:20260429T170000Z
URL:https://www.lubakiagenda.net/event/puntu-gurutze-1
LOCATION:Mamarigako Kultur Etxea - Nafarroa Auzunea\, Santurtzi
STATUS:CONFIRMED
CATEGORIES:sorkuntza,tailerra
END:VEVENT
BEGIN:VEVENT
UID:31055@www.lubakiagenda.net
SUMMARY:TXALAPARTA TAILERRA
DTSTAMP:20260423T174508Z
DTSTART:20260429T160000Z
DTEND:20260429T170000Z
URL:https://www.lubakiagenda.net/event/txalaparta-tailerra-2
LOCATION:7 katu - Solokoetxeko eskailerak - Bilbo
STATUS:CONFIRMED
CATEGORIES:txalaparta,tailerra
END:VEVENT
BEGIN:VEVENT
UID:31063@www.lubakiagenda.net
SUMMARY:AKROYOGA
DTSTAMP:20260423T174508Z
DTSTART:20260429T160000Z
DTEND:20260429T190000Z
URL:https://www.lubakiagenda.net/event/akroyoga-8
LOCATION:Karmela - Fika kalea 44 -Bilbo
STATUS:CONFIRMED
CATEGORIES:yoga,tailerra,kirolak
END:VEVENT
BEGIN:VEVENT
UID:31065@www.lubakiagenda.net
SUMMARY:BOXEOA
DTSTAMP:20260423T174508Z
DTSTART:20260429T163000Z
DTEND:20260429T190000Z
URL:https://www.lubakiagenda.net/event/boxeoa-59
LOCATION:Karmela - Fika kalea 44 -Bilbo
STATUS:CONFIRMED
CATEGORIES:kirolak,boxeoa,tailerra
END:VEVENT
BEGIN:VEVENT
UID:31058@www.lubakiagenda.net
SUMMARY:EUSKARA: Maila ertaina
DTSTAMP:20260423T174508Z
DTSTART:20260429T170000Z
DTEND:20260429T183000Z
URL:https://www.lubakiagenda.net/event/euskara-maila-ertaina-3
LOCATION:Karmela - Fika kalea 44 -Bilbo
STATUS:CONFIRMED
CATEGORIES:tailerra,Euskara
END:VEVENT
BEGIN:VEVENT
UID:31061@www.lubakiagenda.net
SUMMARY:TXALAPARTA
DTSTAMP:20260423T174508Z
DTSTART:20260429T173000Z
DTEND:20260429T200000Z
URL:https://www.lubakiagenda.net/event/txalaparta-7
LOCATION:Txarraska Gaztetxea - Cervantes Hiribidea\, 1\, Basauri
STATUS:CONFIRMED
CATEGORIES:tailerra,txalaparta
END:VEVENT
BEGIN:VEVENT
UID:31077@www.lubakiagenda.net
SUMMARY:BOXEOA
DTSTAMP:20260423T174508Z
DTSTART:20260430T073000Z
DTEND:20260430T090000Z
URL:https://www.lubakiagenda.net/event/boxeoa-62
LOCATION:Karmela - Fika kalea 44 -Bilbo
STATUS:CONFIRMED
CATEGORIES:kirolak,tailerra,boxeoa
END:VEVENT
BEGIN:VEVENT
UID:31074@www.lubakiagenda.net
SUMMARY:TRUCAREC
DTSTAMP:20260423T174508Z
DTSTART:20260430T150000Z
DTEND:20260430T173000Z
URL:https://www.lubakiagenda.net/event/trucarec-1
LOCATION:Txarraska Gaztetxea - Cervantes Hiribidea\, 1\, Basauri
STATUS:CONFIRMED
CATEGORIES:sorkuntza,tailerra,joskintza
END:VEVENT
BEGIN:VEVENT
UID:31075@www.lubakiagenda.net
SUMMARY:MARGOLARITZA
DTSTAMP:20260423T174508Z
DTSTART:20260430T150000Z
DTEND:20260430T170000Z
URL:https://www.lubakiagenda.net/event/margolaritza-3
LOCATION:Mamarigako Kultur Etxea - Nafarroa Auzunea\, Santurtzi
STATUS:CONFIRMED
CATEGORIES:sorkuntza,tailerra
END:VEVENT
BEGIN:VEVENT
UID:28470@www.lubakiagenda.net
SUMMARY:HAMARKADA HERRIKADA: KARMELAREN X. URTEURRENA (Herrikada eguna II)
DTSTAMP:20260423T174508Z
DTSTART:20260515T150000Z
DTEND:20260515T190000Z
URL:https://www.lubakiagenda.net/event/hamarkada-herrikada-karmelaren-x-urt
	eurrena-herrikada-eguna-ii
LOCATION:Karmela - Fika kalea 44 -Bilbo
STATUS:CONFIRMED
CATEGORIES:musika,pintxada,azoka,Urteurrena,dj,umeentzakoa,tailerra
END:VEVENT
BEGIN:VEVENT
UID:28047@www.lubakiagenda.net
SUMMARY:SALSA KLASEAK
DTSTAMP:20260423T174508Z
DTSTART:20260515T160000Z
URL:https://www.lubakiagenda.net/event/salsa-klaseak-13
LOCATION:Errondoko Auzoetxea - Navarro Villoslada kalea 12\, San Inazio
STATUS:CONFIRMED
CATEGORIES:tailerra,dantza
END:VEVENT
BEGIN:VEVENT
UID:30955@www.lubakiagenda.net
SUMMARY:Puntadas y resistencia
DTSTAMP:20260423T174508Z
DTSTART:20260516T090000Z
DTEND:20260516T113000Z
URL:https://www.lubakiagenda.net/event/puntadas-y-resistencia-1
LOCATION:AntiLiburudenda - Dos de Mayo\, 2 48003 Bilbao Bizkaia
STATUS:CONFIRMED
CATEGORIES:liburutegia,tailerra
END:VEVENT
BEGIN:VEVENT
UID:30981@www.lubakiagenda.net
SUMMARY:POTTOKAK OSTIKOKA
DTSTAMP:20260423T174508Z
DTSTART:20260523T070000Z
DTEND:20260523T190000Z
URL:https://www.lubakiagenda.net/event/pottokak-ostikoka-1
LOCATION:Karmela - Fika kalea 44 -Bilbo
STATUS:CONFIRMED
CATEGORIES:autodefebtsa,bazkaria,mahaingurua,kirolak,afaria,boxeoa,tailerra
	,transfeminismoa,gosaria,LGTBQIA+
END:VEVENT
BEGIN:VEVENT
UID:28048@www.lubakiagenda.net
SUMMARY:SALSA KLASEAK
DTSTAMP:20260423T174508Z
DTSTART:20260529T160000Z
URL:https://www.lubakiagenda.net/event/salsa-klaseak-14
LOCATION:Errondoko Auzoetxea - Navarro Villoslada kalea 12\, San Inazio
STATUS:CONFIRMED
CATEGORIES:dantza,tailerra
END:VEVENT
BEGIN:VEVENT
UID:28049@www.lubakiagenda.net
SUMMARY:SALSA KLASEAK
DTSTAMP:20260423T174508Z
DTSTART:20260612T160000Z
URL:https://www.lubakiagenda.net/event/salsa-klaseak-15
LOCATION:Errondoko Auzoetxea - Navarro Villoslada kalea 12\, San Inazio
STATUS:CONFIRMED
CATEGORIES:tailerra,dantza
END:VEVENT
BEGIN:VEVENT
UID:28050@www.lubakiagenda.net
SUMMARY:SALSA KLASEAK
DTSTAMP:20260423T174508Z
DTSTART:20260626T160000Z
URL:https://www.lubakiagenda.net/event/salsa-klaseak-16
LOCATION:Errondoko Auzoetxea - Navarro Villoslada kalea 12\, San Inazio
STATUS:CONFIRMED
CATEGORIES:dantza,tailerra
END:VEVENT
END:VCALENDAR
