BEGIN:VCALENDAR
VERSION:2.0
CALSCALE:GREGORIAN
PRODID:adamgibbons/ics
METHOD:PUBLISH
X-PUBLISHED-TTL:PT1H
BEGIN:VEVENT
UID:30963@www.lubakiagenda.net
SUMMARY:EMAKUMEENTZAKO AHOLKU ETXEA
DTSTAMP:20260423T174356Z
DTSTART:20260424T090000Z
DTEND:20260424T110000Z
URL:https://www.lubakiagenda.net/event/emakumeentzako-aholku-etxea-11
LOCATION:San Juan kalea 26 - Barakaldo
STATUS:CONFIRMED
CATEGORIES:aholkularitza,feminismoa
END:VEVENT
BEGIN:VEVENT
UID:30966@www.lubakiagenda.net
SUMMARY:BILBOKO OKUPAZIO BULEGOA
DTSTAMP:20260423T174356Z
DTSTART:20260424T160000Z
DTEND:20260424T180000Z
URL:https://www.lubakiagenda.net/event/bilboko-okupazio-bulegoa-3
LOCATION:Arrakala II - Goienkale\, Bilbo
STATUS:CONFIRMED
CATEGORIES:okupazioa,aholkularitza,zukzeukegin
END:VEVENT
BEGIN:VEVENT
UID:30982@www.lubakiagenda.net
SUMMARY:EMAKUMEENTZAKO AHOLKU ETXEA
DTSTAMP:20260423T174356Z
DTSTART:20260427T090000Z
DTEND:20260427T110000Z
URL:https://www.lubakiagenda.net/event/emakumeentzako-aholku-etxea-1
LOCATION:San Juan kalea 26 - Barakaldo
STATUS:CONFIRMED
CATEGORIES:aholkularitza,feminismoa
END:VEVENT
BEGIN:VEVENT
UID:30983@www.lubakiagenda.net
SUMMARY:OFICINA ALTERNATIVA DE INFORMACIÓN
DTSTAMP:20260423T174356Z
DTSTART:20260427T090000Z
DTEND:20260427T110000Z
URL:https://www.lubakiagenda.net/event/oficina-alternativa-de-informacion-3
LOCATION:EzkerHika - San Antonio kalea 8\, Barakaldo
STATUS:CONFIRMED
CATEGORIES:aholkularitza,langile elkartasuna
END:VEVENT
BEGIN:VEVENT
UID:31024@www.lubakiagenda.net
SUMMARY:REGULACIÓN EXTRAORDINARIA DE MIGRANTES
DTSTAMP:20260423T174356Z
DTSTART:20260428T133000Z
URL:https://www.lubakiagenda.net/event/regulacion-extraordinaria-de-migrant
	es-5
LOCATION:Azeta kalea 4 - Sestao
STATUS:CONFIRMED
CATEGORIES:aholkularitza,feminismoa
END:VEVENT
BEGIN:VEVENT
UID:31057@www.lubakiagenda.net
SUMMARY:EMAKUMEENTZAKO AHOLKU ETXEA
DTSTAMP:20260423T174356Z
DTSTART:20260429T160000Z
DTEND:20260429T180000Z
URL:https://www.lubakiagenda.net/event/emakumeentzako-aholku-etxea-3
LOCATION:San Juan kalea 26 - Barakaldo
STATUS:CONFIRMED
CATEGORIES:feminismoa,aholkularitza
END:VEVENT
BEGIN:VEVENT
UID:31076@www.lubakiagenda.net
SUMMARY:REGULACIÓN EXTRAORDINARIA DE MIGRANTES
DTSTAMP:20260423T174356Z
DTSTART:20260430T140000Z
URL:https://www.lubakiagenda.net/event/regulacion-extraordinaria-de-migrant
	es-13
LOCATION:Irola Irratia Lokalean - Jaro de Arana z/g Iralabarri (Bilbo)
STATUS:CONFIRMED
CATEGORIES:feminismoa,aholkularitza
END:VEVENT
END:VCALENDAR
