BEGIN:VCALENDAR
VERSION:2.0
CALSCALE:GREGORIAN
PRODID:adamgibbons/ics
METHOD:PUBLISH
X-PUBLISHED-TTL:PT1H
BEGIN:VEVENT
UID:31071@www.lubakiagenda.net
SUMMARY:ZAINTZA SISTEMA PUBLIKO ETA KOMUNITARIOAREN BIDEAN\, EH ERALDATZEN 
	- Jardunaldi Nazionalak
DTSTAMP:20260424T133208Z
DTSTART:20260510T073000Z
DTEND:20260510T150000Z
DESCRIPTION:9:30 Izen ematea\n10:00 Kokapena\n11:00 Erroldaren giza katea\n
	12:30 Aurrera begirako erronkak\n13:30 Agerraldia\n14:00 Bazkaria\n15:00 K
	onpromisoak ezaugarritzen
URL:https://www.lubakiagenda.net/event/zaintza-sistema-publiko-eta-komunita
	rioaren-bidean-eh-eraldatzen-jardunaldi-nazionalak
LOCATION:Unamuno Institutua - Bilbo
STATUS:CONFIRMED
CATEGORIES:feminismoa,jardunaldiak,bazkaria,hitzaldia
X-ALT-DESC;FMTTYPE=text/html:<p>9:30 Izen ematea<br>10:00 Kokapena<br>11:00
	 Erroldaren giza katea<br>12:30 Aurrera begirako erronkak<br>13:30 Agerral
	dia<br>14:00 Bazkaria<br>15:00 Konpromisoak ezaugarritzen</p>
BEGIN:VALARM
ACTION:DISPLAY
DESCRIPTION:ZAINTZA SISTEMA PUBLIKO ETA KOMUNITARIOAREN BIDEAN, EH ERALDATZ
	EN - Jardunaldi Nazionalak
TRIGGER:-PT1H
END:VALARM
END:VEVENT
END:VCALENDAR
