BEGIN:VCALENDAR
VERSION:2.0
CALSCALE:GREGORIAN
PRODID:adamgibbons/ics
METHOD:PUBLISH
X-PUBLISHED-TTL:PT1H
BEGIN:VEVENT
UID:31039@www.lubakiagenda.net
SUMMARY:"Uzu + Yunk + Calzados Deportivos"
DTSTAMP:20260424T090502Z
DTSTART:20260521T180000Z
URL:https://www.lubakiagenda.net/event/uzu-yunk-calzados-deportivos
GEO:43.271046;-2.9433757
LOCATION:Lakobra - Blas de Otero 4 (viverotik sartzen da) Deustu
STATUS:CONFIRMED
CATEGORIES:kontzertuak
BEGIN:VALARM
ACTION:DISPLAY
DESCRIPTION:"Uzu + Yunk + Calzados Deportivos"
TRIGGER:-PT1H
END:VALARM
END:VEVENT
END:VCALENDAR
