BEGIN:VCALENDAR
VERSION:2.0
CALSCALE:GREGORIAN
PRODID:adamgibbons/ics
METHOD:PUBLISH
X-PUBLISHED-TTL:PT1H
BEGIN:VEVENT
UID:30507@www.lubakiagenda.net
SUMMARY:TXOSNAREN LAN EGUNA
DTSTAMP:20260424T235209Z
DTSTART:20260425T080000Z
DTEND:20260426T120000Z
DESCRIPTION:Kaixo!!! Aurtengo Bilbi Jai Batzordearen helburuetako bat txosn
	a hobetzea zen\n(ez du ondo ixten\, pintura zaharra dago\, barra erortzen 
	ari da…) aurten jaietan\ngorabeheraren bat egon ez dadin eta jaiak hobetze
	aren parte gisa.\n\n\n\nAukera ezberdinak aztertzen egon gara eta azkenean
	 LAN EGUN bat egitea erabaki\ndugu Kultur Etxean apirilaren 25eko asteburu
	an\, 25eko larunbatean eta 26ko\nigandean.\n\n\n\nLan honetan hauxe egingo
	 dugu:\n\n* Soldadura-lanak\n\n\n\n* Konponketak\n\n\n\n* Margoketa\n\n\n\
	nLan honekin bukatu ahal izateko\, parte hartuko duzuen pertsonak zerrenda
	n izena\nematea eskatzen dizuegu. Lan handia da eta pertsona gutxi batzuk 
	gara talde\nbarruan. Laguntza ematera animatzen zaituztegu\, denok beste j
	ai batzuez\ngozatzeko!!!! 💥\n\n\n\nKaixo!!! Uno de los objetivos de este a
	ño de la Jai Batzorde de Bilbi era\nmejorar la txosna (no cierra bien\, la
	 pintura está vieja\, la barra se cae…) de\ncara a prevenir que este año e
	n jaiak pueda haber algún incidente y como parte\nde la mejora de jaiak.\n
	\nHemos estado valorando diferentes opciones y finalmente hemos decidido h
	acer un\n*LAN EGUN* en la Kultur el finde del 25 de abril\, el *sábado 25 
	y el domingo\n26*.\n\nEn este lan egun haremos:\n\n* Soldar\n\n* Reparar\n
	\n* Pintar\n\nPara poder asegurarnos terminar este trabajo\, os pedimos qu
	e os apuntéis a esta\nlista las personas que asistiréis. Es mucho trabajo 
	y somos pocas personas\ndentro del talde. Os animamos a echar una mano\, p
	ara que todas po\n\ndamos disfrutar de otras jaiak!!!! 💥\n\n\n\n\n\n
URL:https://www.lubakiagenda.net/event/txosnaren-lan-eguna
LOCATION:Bilbo Zaharreko Kultur Etxea - Urazurrutia 7
STATUS:CONFIRMED
CATEGORIES:Jai Batzordea,Kaximira,Lan Eguna
X-ALT-DESC;FMTTYPE=text/html:<p>Kaixo!!! Aurtengo Bilbi Jai Batzordearen he
	lburuetako bat txosna hobetzea zen (ez du ondo ixten, pintura zaharra dago
	, barra erortzen ari da…) aurten jaietan gorabeheraren bat egon ez dadin e
	ta jaiak hobetzearen parte gisa.</p><p></p><p>Aukera ezberdinak aztertzen 
	egon gara eta azkenean LAN EGUN bat egitea erabaki dugu Kultur Etxean apir
	ilaren 25eko asteburuan, 25eko larunbatean eta 26ko igandean. </p><p></p><
	p>Lan honetan hauxe egingo dugu:</p><p>* Soldadura-lanak</p><p></p><p>* Ko
	nponketak</p><p></p><p>* Margoketa</p><p></p><p>Lan honekin bukatu ahal iz
	ateko, parte hartuko duzuen pertsonak zerrendan izena ematea eskatzen dizu
	egu. Lan handia da eta pertsona gutxi batzuk gara talde barruan. Laguntza 
	ematera animatzen zaituztegu, denok beste jai batzuez gozatzeko!!!! 💥</p><
	p></p><p>Kaixo!!! Uno de los objetivos de este año de la Jai Batzorde de B
	ilbi era mejorar la txosna (no cierra bien, la pintura está vieja, la barr
	a se cae…) de cara a prevenir que este año en jaiak pueda haber algún inci
	dente y como parte de la mejora de jaiak. </p><p>Hemos estado valorando di
	ferentes opciones y finalmente hemos decidido hacer un *LAN EGUN* en la Ku
	ltur el finde del 25 de abril, el *sábado 25 y el domingo 26*.</p><p>En es
	te lan egun haremos: </p><p>* Soldar</p><p>* Reparar</p><p>* Pintar </p><p
	>Para poder asegurarnos terminar este trabajo, os pedimos que os apuntéis 
	a esta lista las personas que asistiréis. Es mucho trabajo y somos pocas p
	ersonas dentro del talde. Os animamos a echar una mano, para que todas po<
	/p><p>damos disfrutar de otras jaiak!!!! 💥</p><p></p><p></p><p></p>
BEGIN:VALARM
ACTION:DISPLAY
DESCRIPTION:TXOSNAREN LAN EGUNA
TRIGGER:-PT1H
END:VALARM
END:VEVENT
END:VCALENDAR
