BEGIN:VCALENDAR
VERSION:2.0
CALSCALE:GREGORIAN
PRODID:adamgibbons/ics
METHOD:PUBLISH
X-PUBLISHED-TTL:PT1H
BEGIN:VEVENT
UID:30508@www.lubakiagenda.net
SUMMARY:TXOSNAREN LAN EGUNA
DTSTAMP:20260425T011907Z
DTSTART:20260425T140000Z
DTEND:20260426T180000Z
DESCRIPTION:Kaixo!!! Aurtengo Bilbi Jai Batzordearen helburuetako bat txosn
	a hobetzea zen\n(ez du ondo ixten\, pintura zaharra dago\, barra erortzen 
	ari da…) aurten jaietan\ngorabeheraren bat egon ez dadin eta jaiak hobetze
	aren parte gisa.\n\n\n\n\n\n\n\nAukera ezberdinak aztertzen egon gara eta 
	azkenean LAN EGUN bat egitea erabaki\ndugu Kultur Etxean apirilaren 25eko 
	asteburuan\, 25eko larunbatean eta 26ko\nigandean.\n\n\n\n\n\n\n\nLan hone
	tan hauxe egingo dugu:\n\n\n\n* Soldadura-lanak\n\n\n\n\n\n\n\n* Konponket
	ak\n\n\n\n\n\n\n\n* Margoketa\n\n\n\n\n\n\n\nLan honekin bukatu ahal izate
	ko\, parte hartuko duzuen pertsonak zerrendan izena\nematea eskatzen dizue
	gu. Lan handia da eta pertsona gutxi batzuk gara talde\nbarruan. Laguntza 
	ematera animatzen zaituztegu\, denok beste jai batzuez\ngozatzeko!!!! 💥\n\
	n\n\n\n\n\n\nKaixo!!! Uno de los objetivos de este año de la Jai Batzorde 
	de Bilbi era\nmejorar la txosna (no cierra bien\, la pintura está vieja\, 
	la barra se cae…) de\ncara a prevenir que este año en jaiak pueda haber al
	gún incidente y como parte\nde la mejora de jaiak.\n\n\n\nHemos estado val
	orando diferentes opciones y finalmente hemos decidido hacer un\n*LAN EGUN
	* en la Kultur el finde del 25 de abril\, el *sábado 25 y el domingo\n26*.
	\n\n\n\nEn este lan egun haremos:\n\n\n\n* Soldar\n\n\n\n* Reparar\n\n\n\n
	* Pintar\n\n\n\nPara poder asegurarnos terminar este trabajo\, os pedimos 
	que os apuntéis a esta\nlista las personas que asistiréis. Es mucho trabaj
	o y somos pocas personas\ndentro del talde. Os animamos a echar una mano\,
	 para que todas po\n\n\n\ndamos disfrutar de otras jaiak!!!! 💥
URL:https://www.lubakiagenda.net/event/txosnaren-lan-eguna-1
LOCATION:Bilbo Zaharreko Kultur Etxea - Urazurrutia 7
STATUS:CONFIRMED
CATEGORIES:Jai Batzordea,Kaximira,Lan Eguna
X-ALT-DESC;FMTTYPE=text/html:<p>Kaixo!!! Aurtengo Bilbi Jai Batzordearen he
	lburuetako bat txosna hobetzea zen (ez du ondo ixten, pintura zaharra dago
	, barra erortzen ari da…) aurten jaietan gorabeheraren bat egon ez dadin e
	ta jaiak hobetzearen parte gisa.</p><p></p><p></p><p></p><p>Aukera ezberdi
	nak aztertzen egon gara eta azkenean LAN EGUN bat egitea erabaki dugu Kult
	ur Etxean apirilaren 25eko asteburuan, 25eko larunbatean eta 26ko igandean
	. </p><p></p><p></p><p></p><p>Lan honetan hauxe egingo dugu:</p><p></p><p>
	* Soldadura-lanak</p><p></p><p></p><p></p><p>* Konponketak</p><p></p><p></
	p><p></p><p>* Margoketa</p><p></p><p></p><p></p><p>Lan honekin bukatu ahal
	 izateko, parte hartuko duzuen pertsonak zerrendan izena ematea eskatzen d
	izuegu. Lan handia da eta pertsona gutxi batzuk gara talde barruan. Lagunt
	za ematera animatzen zaituztegu, denok beste jai batzuez gozatzeko!!!! 💥</
	p><p></p><p></p><p></p><p>Kaixo!!! Uno de los objetivos de este año de la 
	Jai Batzorde de Bilbi era mejorar la txosna (no cierra bien, la pintura es
	tá vieja, la barra se cae…) de cara a prevenir que este año en jaiak pueda
	 haber algún incidente y como parte de la mejora de jaiak. </p><p></p><p>H
	emos estado valorando diferentes opciones y finalmente hemos decidido hace
	r un *LAN EGUN* en la Kultur el finde del 25 de abril, el *sábado 25 y el 
	domingo 26*.</p><p></p><p>En este lan egun haremos: </p><p></p><p>* Soldar
	</p><p></p><p>* Reparar</p><p></p><p>* Pintar </p><p></p><p>Para poder ase
	gurarnos terminar este trabajo, os pedimos que os apuntéis a esta lista la
	s personas que asistiréis. Es mucho trabajo y somos pocas personas dentro 
	del talde. Os animamos a echar una mano, para que todas po</p><p></p><p>da
	mos disfrutar de otras jaiak!!!! 💥</p>
BEGIN:VALARM
ACTION:DISPLAY
DESCRIPTION:TXOSNAREN LAN EGUNA
TRIGGER:-PT1H
END:VALARM
END:VEVENT
END:VCALENDAR
