BEGIN:VCALENDAR
VERSION:2.0
CALSCALE:GREGORIAN
PRODID:adamgibbons/ics
METHOD:PUBLISH
X-PUBLISHED-TTL:PT1H
BEGIN:VEVENT
UID:30985@www.lubakiagenda.net
SUMMARY:SUTEAK ETA FAXISMOA
DTSTAMP:20260421T114630Z
DTSTART:20260424T160000Z
URL:https://www.lubakiagenda.net/event/suteak-eta-faxismoa
LOCATION:Ekoetxea - Pilota kalea 5\, Bilbo
STATUS:CONFIRMED
CATEGORIES:antifaxismoa,proiekzioa,ekologismoa,dokumentala
BEGIN:VALARM
ACTION:DISPLAY
DESCRIPTION:SUTEAK ETA FAXISMOA
TRIGGER:-PT1H
END:VALARM
END:VEVENT
END:VCALENDAR
