BEGIN:VCALENDAR
VERSION:2.0
CALSCALE:GREGORIAN
PRODID:adamgibbons/ics
METHOD:PUBLISH
X-PUBLISHED-TTL:PT1H
BEGIN:VEVENT
UID:30830@www.lubakiagenda.net
SUMMARY:SUBFLUBIALA EZ! HITZALDI BIRA
DTSTAMP:20260421T101230Z
DTSTART:20260424T163000Z
URL:https://www.lubakiagenda.net/event/subflubiala-ez-hitzaldi-bira-3
LOCATION:Erandioko merkatu zaharra - Erandio
STATUS:CONFIRMED
CATEGORIES:subflubiala ez,hitzaldia,ekologismoa,antidesarrollismoa
BEGIN:VALARM
ACTION:DISPLAY
DESCRIPTION:SUBFLUBIALA EZ! HITZALDI BIRA
TRIGGER:-PT1H
END:VALARM
END:VEVENT
END:VCALENDAR
