BEGIN:VCALENDAR
VERSION:2.0
CALSCALE:GREGORIAN
PRODID:adamgibbons/ics
METHOD:PUBLISH
X-PUBLISHED-TTL:PT1H
BEGIN:VEVENT
UID:30831@www.lubakiagenda.net
SUMMARY:SOS PALESTINA
DTSTAMP:20260419T135836Z
DTSTART:20260425T103000Z
URL:https://www.lubakiagenda.net/event/sos-palestina-1
LOCATION:San Pedro plaza - Sestao
STATUS:CONFIRMED
CATEGORIES:kontzentrazioa,palestina
BEGIN:VALARM
ACTION:DISPLAY
DESCRIPTION:SOS PALESTINA
TRIGGER:-PT1H
END:VALARM
END:VEVENT
END:VCALENDAR
