BEGIN:VCALENDAR
VERSION:2.0
CALSCALE:GREGORIAN
PRODID:adamgibbons/ics
METHOD:PUBLISH
X-PUBLISHED-TTL:PT1H
BEGIN:VEVENT
UID:30980@www.lubakiagenda.net
SUMMARY:POTTOKAK OSTIKOKA
DTSTAMP:20260424T061728Z
DTSTART:20260522T180000Z
DESCRIPTION:20:00 HARRERA: Proiekzioa + Karmelaren bisita + mokadutxoa
URL:https://www.lubakiagenda.net/event/pottokak-ostikoka
GEO:43.2532831;-2.9176104
LOCATION:Karmela - Fika kalea 44 -Bilbo
STATUS:CONFIRMED
CATEGORIES:proiekzioa,kirolak,bisita gidatua,LGTBQIA+,transfeminismoa,pikot
	eoa
X-ALT-DESC;FMTTYPE=text/html:<p>20:00 HARRERA: Proiekzioa + Karmelaren bisi
	ta + mokadutxoa</p>
BEGIN:VALARM
ACTION:DISPLAY
DESCRIPTION:POTTOKAK OSTIKOKA
TRIGGER:-PT1H
END:VALARM
END:VEVENT
END:VCALENDAR
