BEGIN:VCALENDAR
VERSION:2.0
CALSCALE:GREGORIAN
PRODID:adamgibbons/ics
METHOD:PUBLISH
X-PUBLISHED-TTL:PT1H
BEGIN:VEVENT
UID:30984@www.lubakiagenda.net
SUMMARY:POTTOKAK OSTIKOKA
DTSTAMP:20260421T112436Z
DTSTART:20260524T070000Z
DTEND:20260524T130000Z
DESCRIPTION:09:00 Gosaria\n11:00 Erabilera polibalenterako espazioa: Sparri
	ng / Jolasak / Autogestioa\n13:12 Vermuteoa + Zozketa + "Virginia Plain"ek
	in pintxada\n15:00 Bazkaria
URL:https://www.lubakiagenda.net/event/pottokak-ostikoka-2
GEO:43.2532831;-2.9176104
LOCATION:Karmela - Fika kalea 44 -Bilbo
STATUS:CONFIRMED
CATEGORIES:musika,pintxada,boxeoa,afaria,zozketa,kirolak,vermuteoa,mahaingu
	rua,bazkaria,LGTBQIA+,gosaria,transfeminismoa
X-ALT-DESC;FMTTYPE=text/html:<p>09:00 Gosaria<br>11:00 Erabilera polibalent
	erako espazioa: Sparring / Jolasak / Autogestioa<br>13:12 Vermuteoa + Zozk
	eta + "Virginia Plain"ekin pintxada<br>15:00 Bazkaria</p>
BEGIN:VALARM
ACTION:DISPLAY
DESCRIPTION:POTTOKAK OSTIKOKA
TRIGGER:-PT1H
END:VALARM
END:VEVENT
END:VCALENDAR
