BEGIN:VCALENDAR
VERSION:2.0
CALSCALE:GREGORIAN
PRODID:adamgibbons/ics
METHOD:PUBLISH
X-PUBLISHED-TTL:PT1H
BEGIN:VEVENT
UID:30698@www.lubakiagenda.net
SUMMARY:Otsoen Gaua -  Kranba!
DTSTAMP:20260419T122342Z
DTSTART:20260425T130000Z
URL:https://www.lubakiagenda.net/event/otsoen-gaua-kranba
LOCATION:Astika Herria - Astika Herria
STATUS:CONFIRMED
CATEGORIES:jaialdia,okupazioa,konpartsa
BEGIN:VALARM
ACTION:DISPLAY
DESCRIPTION:Otsoen Gaua -  Kranba!
TRIGGER:-PT1H
END:VALARM
END:VEVENT
END:VCALENDAR
