BEGIN:VCALENDAR
VERSION:2.0
CALSCALE:GREGORIAN
PRODID:adamgibbons/ics
METHOD:PUBLISH
X-PUBLISHED-TTL:PT1H
BEGIN:VEVENT
UID:30875@www.lubakiagenda.net
SUMMARY:MUNDU BAT BILBON
DTSTAMP:20260421T101408Z
DTSTART:20260604T150000Z
DTEND:20260607T210000Z
URL:https://www.lubakiagenda.net/event/mundu-bat-bilbon-9
LOCATION:Xake Taberna - Bilbo Zaharra 17
STATUS:CONFIRMED
CATEGORIES:erakusketa
BEGIN:VALARM
ACTION:DISPLAY
DESCRIPTION:MUNDU BAT BILBON
TRIGGER:-PT1H
END:VALARM
END:VEVENT
END:VCALENDAR
