BEGIN:VCALENDAR
VERSION:2.0
CALSCALE:GREGORIAN
PRODID:adamgibbons/ics
METHOD:PUBLISH
X-PUBLISHED-TTL:PT1H
BEGIN:VEVENT
UID:30859@www.lubakiagenda.net
SUMMARY:MARAKANA DEFENDATU
DTSTAMP:20260421T101230Z
DTSTART:20260425T083000Z
DTEND:20260425T120000Z
DESCRIPTION:10:30 Futbito txapelketa + mural margoketa\n12:00 Hamaiketako
URL:https://www.lubakiagenda.net/event/marakana-defendatu
LOCATION:Marakana - San Inazio
STATUS:CONFIRMED
CATEGORIES:kirolak,pintxoteoa,lehiaketa,mural margoket
X-ALT-DESC;FMTTYPE=text/html:<p>10:30 Futbito txapelketa + mural margoketa<
	br>12:00 Hamaiketako</p>
BEGIN:VALARM
ACTION:DISPLAY
DESCRIPTION:MARAKANA DEFENDATU
TRIGGER:-PT1H
END:VALARM
END:VEVENT
END:VCALENDAR
