BEGIN:VCALENDAR
VERSION:2.0
CALSCALE:GREGORIAN
PRODID:adamgibbons/ics
METHOD:PUBLISH
X-PUBLISHED-TTL:PT1H
BEGIN:VEVENT
UID:30751@www.lubakiagenda.net
SUMMARY:Lovataraxx + Ruider 4
DTSTAMP:20260419T122710Z
DTSTART:20260415T170000Z
DESCRIPTION:Datorren Apirilaren 15ean kontzertuak Astika Herrian!\n\nRuider
	4 (zaratakelarrea)\, noise esperimentala Bilbotik\nEta Lovataraxx\, darkwa
	ve/minimal Synth-a Lyonetik\n\nAutobusean etortzeko:\nA3517 linea https://
	labur.eus [https://labur.eus]\n- Jeitsi hemen https://labur.eus/shSuk [htt
	ps://labur.eus/shSuk]\n- eta oinez Astikaraino (5min)\n\nKotxez etortzekot
	an Karrefourren aparkatu.\n\nASTIKA HERRIA GOZATU ETA DEFENDATU!!!
URL:https://www.lubakiagenda.net/event/lovataraxx-ruider-4
LOCATION:Astika Herria - Astika Herria
STATUS:CONFIRMED
CATEGORIES:kontzertuak
X-ALT-DESC;FMTTYPE=text/html:<p>Datorren Apirilaren 15ean kontzertuak Astik
	a Herrian!<br><br>Ruider4 (zaratakelarrea), noise esperimentala Bilbotik <
	br>Eta Lovataraxx, darkwave/minimal Synth-a Lyonetik <br><br>Autobusean et
	ortzeko:<br>A3517 linea <a href="https://labur.eus" target="_blank">https:
	//labur.eus</a><br>- Jeitsi hemen <a href="https://labur.eus/shSuk" target
	="_blank">https://labur.eus/shSuk</a><br>- eta oinez Astikaraino (5min)<br
	><br>Kotxez etortzekotan Karrefourren aparkatu.<br><br>ASTIKA HERRIA GOZAT
	U ETA DEFENDATU!!!</p>
BEGIN:VALARM
ACTION:DISPLAY
DESCRIPTION:Lovataraxx + Ruider 4
TRIGGER:-PT1H
END:VALARM
END:VEVENT
END:VCALENDAR
