BEGIN:VCALENDAR
VERSION:2.0
CALSCALE:GREGORIAN
PRODID:adamgibbons/ics
METHOD:PUBLISH
X-PUBLISHED-TTL:PT1H
BEGIN:VEVENT
UID:30853@www.lubakiagenda.net
SUMMARY:Las Fronteras del Color
DTSTAMP:20260419T155028Z
DTSTART:20260422T170000Z
DESCRIPTION:Las fronteras del color\, Nayat Ahmed Abdesalam\n\nUn libro en 
	memoria de la abuela de la autora\, en la que  habla de migración y\nde re
	gularización mezclando crítica y ternura. 
URL:https://www.lubakiagenda.net/event/las-fronteras-del-color
GEO:43.2562563;-2.9223418
LOCATION:Zirika! Herri gunea - Erronda kalea 12\, Bilbo
STATUS:CONFIRMED
CATEGORIES:antiarrazakeria,liburu aurkezpena,antikolonialismoa
X-ALT-DESC;FMTTYPE=text/html:<p>Las fronteras del color, Nayat Ahmed Abdesa
	lam</p><p>Un libro en memoria de la abuela de la autora, en la que&nbsp; h
	abla de migración y de regularización mezclando crítica y ternura.&nbsp;</
	p>
BEGIN:VALARM
ACTION:DISPLAY
DESCRIPTION:Las Fronteras del Color
TRIGGER:-PT1H
END:VALARM
END:VEVENT
END:VCALENDAR
