BEGIN:VCALENDAR
VERSION:2.0
CALSCALE:GREGORIAN
PRODID:adamgibbons/ics
METHOD:PUBLISH
X-PUBLISHED-TTL:PT1H
BEGIN:VEVENT
UID:31051@www.lubakiagenda.net
SUMMARY:Kranba! Asanblada Orokorra
DTSTAMP:20260424T150156Z
DTSTART:20260510T080000Z
DESCRIPTION:Aste Nagusira begirako asanblada. Programazioa\, txosnaren dise
	inua\,\nminizabalbidoi\, eta horrekiko antolakuntza.
URL:https://www.lubakiagenda.net/event/kranba-asanblada-orokorra
GEO:43.2532831;-2.9176104
LOCATION:Karmela - Fika kalea 44 -Bilbo
STATUS:CONFIRMED
CATEGORIES:asanblada,autogestioa,okupazioa,Jai Herrikoiak,konpartsa
X-ALT-DESC;FMTTYPE=text/html:<p>Aste Nagusira begirako asanblada. Programaz
	ioa, txosnaren diseinua, minizabalbidoi, eta horrekiko antolakuntza.</p>
BEGIN:VALARM
ACTION:DISPLAY
DESCRIPTION:Kranba! Asanblada Orokorra
TRIGGER:-PT1H
END:VALARM
END:VEVENT
END:VCALENDAR
