BEGIN:VCALENDAR
VERSION:2.0
CALSCALE:GREGORIAN
PRODID:adamgibbons/ics
METHOD:PUBLISH
X-PUBLISHED-TTL:PT1H
BEGIN:VEVENT
UID:31035@www.lubakiagenda.net
SUMMARY:Kontzertuak : BUIAH + GOODBYE KEPPLER
DTSTAMP:20260423T191025Z
DTSTART:20260424T173000Z
DTEND:20260424T200000Z
URL:https://www.lubakiagenda.net/event/kontzertuak-buiah-goodbye-keppler
GEO:43.3780135;-2.9909474
LOCATION:Larrabasterrako Auzoetxea - Loiola Ander deuna 41\, Larrabasterra
STATUS:CONFIRMED
CATEGORIES:kontzertuak
BEGIN:VALARM
ACTION:DISPLAY
DESCRIPTION:Kontzertuak : BUIAH + GOODBYE KEPPLER
TRIGGER:-PT1H
END:VALARM
END:VEVENT
END:VCALENDAR
