BEGIN:VCALENDAR
VERSION:2.0
CALSCALE:GREGORIAN
PRODID:adamgibbons/ics
METHOD:PUBLISH
X-PUBLISHED-TTL:PT1H
BEGIN:VEVENT
UID:31041@www.lubakiagenda.net
SUMMARY:JARDUNALDI ANTIINPERIALISTAK. GERRA ETA BERRARMATZEAREN AURKA
DTSTAMP:20260424T073714Z
DTSTART:20260522T170000Z
DTEND:20260524T150000Z
URL:https://www.lubakiagenda.net/event/jardunaldi-antiinperialistak-gerra-e
	ta-berrarmatzearen-aurka
GEO:43.3216615;-3.0179679
LOCATION:Portuko Merkatua - Coscojales kalea 1 - Portugalete
STATUS:CONFIRMED
CATEGORIES:antifaxismoa,antimilitarismoa,jardunaldiak,antiinperialismoa
BEGIN:VALARM
ACTION:DISPLAY
DESCRIPTION:JARDUNALDI ANTIINPERIALISTAK. GERRA ETA BERRARMATZEAREN AURKA
TRIGGER:-PT1H
END:VALARM
END:VEVENT
END:VCALENDAR
