BEGIN:VCALENDAR
VERSION:2.0
CALSCALE:GREGORIAN
PRODID:adamgibbons/ics
METHOD:PUBLISH
X-PUBLISHED-TTL:PT1H
BEGIN:VEVENT
UID:30986@www.lubakiagenda.net
SUMMARY:IRAKURLE TALDE BAT: "Las Gratitudes"
DTSTAMP:20260423T191025Z
DTSTART:20260423T170000Z
URL:https://www.lubakiagenda.net/event/irakurle-talde-bat-las-gratitudes
GEO:43.2435928;-2.8851986
LOCATION:Txarraska Gaztetxea - Cervantes Hiribidea\, 1\, Basauri
STATUS:CONFIRMED
CATEGORIES:irakurleen txokoa
BEGIN:VALARM
ACTION:DISPLAY
DESCRIPTION:IRAKURLE TALDE BAT: "Las Gratitudes"
TRIGGER:-PT1H
END:VALARM
END:VEVENT
END:VCALENDAR
