BEGIN:VCALENDAR
VERSION:2.0
CALSCALE:GREGORIAN
PRODID:adamgibbons/ics
METHOD:PUBLISH
X-PUBLISHED-TTL:PT1H
BEGIN:VEVENT
UID:30936@www.lubakiagenda.net
SUMMARY:HAMARRU ELEKTROTXARANGA + BERTSO AFARIA +  MAMBO EXPRESS
DTSTAMP:20260419T153347Z
DTSTART:20260502T163000Z
DTEND:20260503T010000Z
DESCRIPTION:18:30 HAMARRU ELEKTROTXARANGA\n\n21:00 BERTSO AFARIA\n\n23:00 M
	AMBO EXPRESS Kontzertua\n\n\n\n\nMAIATZAREN 2AN BERTSO AFARIA IZANGO DUGU 
	GAZTETXEAN!!! 🫣🤩🤪\n\nKERMAN DIAZ ETA UNAI MENDIBURU IZANGO DITUGU BERTSO B
	IKAINAK BOTATZEN!👥🤌🏽🤌🏽\n\nGAINERA... ARRATSALDEA GIROTZEN HAMARRU ELEKTROTXA
	RANGA EGONGO DA GORLIZEN ETA\nHORI GUTXI BALITZ... GAUA GIROTZEKO MAMBO EX
	PRESS IZANGO DUGU!\n\nTEMATIKA 2️⃣.0️⃣0️⃣0️⃣KO JURRUAK IZANGO DA! BERAZ\, JOAN ZUE
	N OUTFITAK\nPRESTATZEN!🤸🏼‍♀️🤸🏾\n\n📲IZENA EMATEKO BOTA MEZUA 644377122 EDO 645 7
	1 97 59 ZENBAKIETARA.\nPREZIOAK 8€ (PREKARIO) ETA 12€ (EZ-PREKARIO) IZANGO
	 DIRA.\n\nANIMATUUUUU ETA EZ UTZI IZEN-EMATEA AZKEN MOMENTURAKO!!! (GAZTET
	XEA ZABALIK\nEGONGO DA 3RAK ARTE)🫢
URL:https://www.lubakiagenda.net/event/hamarru-elektrotxaranga-bertso-afari
	a-mambo-express
LOCATION:Danontzat Gaztetxea - Ondarreta ibilbidea\, Gorliz-Plentzia
STATUS:CONFIRMED
CATEGORIES:kontzertuak,bertso afaria,elektrotxaranga
X-ALT-DESC;FMTTYPE=text/html:<p>18:30 HAMARRU ELEKTROTXARANGA</p><p>21:00 B
	ERTSO AFARIA</p><p>23:00 MAMBO EXPRESS Kontzertua</p><p></p><h1>MAIATZAREN
	 2an BERTSO AFARIA IZANGO DUGU GAZTETXEAN!!! 🫣🤩🤪<br><br>Kerman Diaz eta Un
	ai Mendiburu izango ditugu bertso bikainak botatzen!👥🤌🏽🤌🏽<br><br>Gainera... 
	Arratsaldea girotzen HAMARRU ELEKTROTXARANGA egongo da Gorlizen eta hori g
	utxi balitz... gaua girotzeko MAMBO EXPRESS izango dugu!<br><br>Tematika 2️⃣
	.0️⃣0️⃣0️⃣ko JURRUAK izango da! Beraz, joan zuen outfitak prestatzen!🤸🏼‍♀️🤸🏾<br><br>📲
	Izena emateko bota mezua 644377122 edo 645 71 97 59 zenbakietara. <br>Prez
	ioak 8€ (prekario) eta 12€ (ez-prekario) izango dira.<br><br>ANIMATUUUUU E
	TA EZ UTZI IZEN-EMATEA AZKEN MOMENTURAKO!!! (Gaztetxea zabalik egongo da 3
	rak arte)🫢</h1>
BEGIN:VALARM
ACTION:DISPLAY
DESCRIPTION:HAMARRU ELEKTROTXARANGA + BERTSO AFARIA +  MAMBO EXPRESS
TRIGGER:-PT1H
END:VALARM
END:VEVENT
END:VCALENDAR
