BEGIN:VCALENDAR
VERSION:2.0
CALSCALE:GREGORIAN
PRODID:adamgibbons/ics
METHOD:PUBLISH
X-PUBLISHED-TTL:PT1H
BEGIN:VEVENT
UID:30977@www.lubakiagenda.net
SUMMARY:Hamaika irakurtzeko jaioak
DTSTAMP:20260423T190904Z
DTSTART:20260423T170000Z
URL:https://www.lubakiagenda.net/event/hamaika-irakurtzeko-jaioak
GEO:43.3780135;-2.9909474
LOCATION:Larrabasterrako Auzoetxea - Loiola Ander deuna 41\, Larrabasterra
STATUS:CONFIRMED
CATEGORIES:liburu aurkezpena
BEGIN:VALARM
ACTION:DISPLAY
DESCRIPTION:Hamaika irakurtzeko jaioak
TRIGGER:-PT1H
END:VALARM
END:VEVENT
END:VCALENDAR
