BEGIN:VCALENDAR
VERSION:2.0
CALSCALE:GREGORIAN
PRODID:adamgibbons/ics
METHOD:PUBLISH
X-PUBLISHED-TTL:PT1H
BEGIN:VEVENT
UID:30716@www.lubakiagenda.net
SUMMARY:GEOPOLÍTICA DEL MUNDO ACTUAL: ¿HACIA UN MUNDO MULTIPOLAR?
DTSTAMP:20260419T155230Z
DTSTART:20260424T170000Z
URL:https://www.lubakiagenda.net/event/geopolitica-del-mundo-actual-hacia-u
	n-mundo-multipolar
LOCATION:Otxarkoagako Auzoetxea - Bilbo
STATUS:CONFIRMED
CATEGORIES:hitzaldia
BEGIN:VALARM
ACTION:DISPLAY
DESCRIPTION:GEOPOLÍTICA DEL MUNDO ACTUAL: ¿HACIA UN MUNDO MULTIPOLAR?
TRIGGER:-PT1H
END:VALARM
END:VEVENT
END:VCALENDAR
