BEGIN:VCALENDAR
VERSION:2.0
CALSCALE:GREGORIAN
PRODID:adamgibbons/ics
METHOD:PUBLISH
X-PUBLISHED-TTL:PT1H
BEGIN:VEVENT
UID:31047@www.lubakiagenda.net
SUMMARY:El entusiasmo y las desdichas del trabajador cultural
DTSTAMP:20260424T103426Z
DTSTART:20260521T170000Z
URL:https://www.lubakiagenda.net/event/el-entusiasmo-y-las-desdichas-del-tr
	abajador-cultural-1
GEO:43.2435928;-2.8851986
LOCATION:Txarraska Gaztetxea - Cervantes Hiribidea\, 1\, Basauri
STATUS:CONFIRMED
CATEGORIES:irakurleen txokoa,sorkuntza
BEGIN:VALARM
ACTION:DISPLAY
DESCRIPTION:El entusiasmo y las desdichas del trabajador cultural
TRIGGER:-PT1H
END:VALARM
END:VEVENT
END:VCALENDAR
