BEGIN:VCALENDAR
VERSION:2.0
CALSCALE:GREGORIAN
PRODID:adamgibbons/ics
METHOD:PUBLISH
X-PUBLISHED-TTL:PT1H
BEGIN:VEVENT
UID:30989@www.lubakiagenda.net
SUMMARY:DISRESPECTFUL TOUR 2026
DTSTAMP:20260423T190858Z
DTSTART:20260425T170000Z
URL:https://www.lubakiagenda.net/event/disrespectful-tour-2026
GEO:43.3780135;-2.9909474
LOCATION:Larrabasterrako Auzoetxea - Loiola Ander deuna 41\, Larrabasterra
STATUS:CONFIRMED
CATEGORIES:kontzertuak
BEGIN:VALARM
ACTION:DISPLAY
DESCRIPTION:DISRESPECTFUL TOUR 2026
TRIGGER:-PT1H
END:VALARM
END:VEVENT
END:VCALENDAR
