BEGIN:VCALENDAR
VERSION:2.0
CALSCALE:GREGORIAN
PRODID:adamgibbons/ics
METHOD:PUBLISH
X-PUBLISHED-TTL:PT1H
BEGIN:VEVENT
UID:31038@www.lubakiagenda.net
SUMMARY:"Despite Everything its still you + Foscø + Calathea"
DTSTAMP:20260424T120511Z
DTSTART:20260509T170000Z
URL:https://www.lubakiagenda.net/event/despite-everything-its-still-you-fos
	co-calathea
GEO:43.271046;-2.9433757
LOCATION:Lakobra - Blas de Otero 4 (viverotik sartzen da) Deustu
STATUS:CONFIRMED
CATEGORIES:kontzertuak
BEGIN:VALARM
ACTION:DISPLAY
DESCRIPTION:"Despite Everything its still you + Foscø + Calathea"
TRIGGER:-PT1H
END:VALARM
END:VEVENT
END:VCALENDAR
