BEGIN:VCALENDAR
VERSION:2.0
CALSCALE:GREGORIAN
PRODID:adamgibbons/ics
METHOD:PUBLISH
X-PUBLISHED-TTL:PT1H
BEGIN:VEVENT
UID:30360@www.lubakiagenda.net
SUMMARY:Dale Kaligula + Full Cab
DTSTAMP:20260419T164650Z
DTSTART:20260320T190000Z
DTEND:20260320T220000Z
URL:https://www.lubakiagenda.net/event/dale-kaligula-full-cab
GEO:43.3780135;-2.9909474
LOCATION:Larrabasterrako Auzoetxea - Loiola Ander deuna 41\, Larrabasterra
STATUS:CONFIRMED
CATEGORIES:
BEGIN:VALARM
ACTION:DISPLAY
DESCRIPTION:Dale Kaligula + Full Cab
TRIGGER:-PT1H
END:VALARM
END:VEVENT
END:VCALENDAR
