BEGIN:VCALENDAR
VERSION:2.0
CALSCALE:GREGORIAN
PRODID:adamgibbons/ics
METHOD:PUBLISH
X-PUBLISHED-TTL:PT1H
BEGIN:VEVENT
UID:30988@www.lubakiagenda.net
SUMMARY:"Buiah + Goodbye Klepper"
DTSTAMP:20260423T190853Z
DTSTART:20260424T173000Z
URL:https://www.lubakiagenda.net/event/buiah-goodbye-klepper
GEO:43.3780135;-2.9909474
LOCATION:Larrabasterrako Auzoetxea - Loiola Ander deuna 41\, Larrabasterra
STATUS:CONFIRMED
CATEGORIES:kontzertuak
BEGIN:VALARM
ACTION:DISPLAY
DESCRIPTION:"Buiah + Goodbye Klepper"
TRIGGER:-PT1H
END:VALARM
END:VEVENT
END:VCALENDAR
