BEGIN:VCALENDAR
VERSION:2.0
CALSCALE:GREGORIAN
PRODID:adamgibbons/ics
METHOD:PUBLISH
X-PUBLISHED-TTL:PT1H
BEGIN:VEVENT
UID:30957@www.lubakiagenda.net
SUMMARY:BOLLEREN IKUSGARRITASUNAREN EGUNEAN\, LESBIANAS PORQUE SÍ!
DTSTAMP:20260419T155332Z
DTSTART:20260426T103000Z
URL:https://www.lubakiagenda.net/event/bolleren-ikusgarritasunaren-egunean-
	lesbianas-porque-si
LOCATION:Emakumeen plaza - Bailen 1 - Bilbo
STATUS:CONFIRMED
CATEGORIES:kontzentrazioa,feminismoa,LGTBQIA+,performance,lesbianismoa
BEGIN:VALARM
ACTION:DISPLAY
DESCRIPTION:BOLLEREN IKUSGARRITASUNAREN EGUNEAN, LESBIANAS PORQUE SÍ!
TRIGGER:-PT1H
END:VALARM
END:VEVENT
END:VCALENDAR
