BEGIN:VCALENDAR
VERSION:2.0
CALSCALE:GREGORIAN
PRODID:adamgibbons/ics
METHOD:PUBLISH
X-PUBLISHED-TTL:PT1H
BEGIN:VEVENT
UID:31045@www.lubakiagenda.net
SUMMARY:Analizando el mundo del arte: Crítica de la crítica institucional
DTSTAMP:20260423T191215Z
DTSTART:20260423T170000Z
URL:https://www.lubakiagenda.net/event/analizando-el-mundo-del-arte-critica
	-de-la-critica-institucional
GEO:43.2435928;-2.8851986
LOCATION:Txarraska Gaztetxea - Cervantes Hiribidea\, 1\, Basauri
STATUS:CONFIRMED
CATEGORIES:irakurleen txokoa,sorkuntza
BEGIN:VALARM
ACTION:DISPLAY
DESCRIPTION:Analizando el mundo del arte: Crítica de la crítica institucion
	al
TRIGGER:-PT1H
END:VALARM
END:VEVENT
END:VCALENDAR
