BEGIN:VCALENDAR
VERSION:2.0
CALSCALE:GREGORIAN
PRODID:adamgibbons/ics
METHOD:PUBLISH
X-PUBLISHED-TTL:PT1H
BEGIN:VEVENT
UID:30961@www.lubakiagenda.net
SUMMARY:A26 PUTAK ETA BOLLERAK
DTSTAMP:20260419T154602Z
DTSTART:20260426T110000Z
DTEND:20260426T130000Z
DESCRIPTION:A26 putak eta bollerak kalera!!\n\nEtorri gurekin apirilaren 26
	an bolleren eguna kalez kale aldarrikatzera.\n13:00etan Etxebarria anaien 
	plazatik (Unamuno).\n\n----\n\n26A putas y bolleras a la calle!!\n\nEste 2
	6 de abril ven con nosotres a reivindicar el día de las bolleras por las\n
	calles. A las 13:00 desde la plaza Hermanos Etxebarrieta (Unamuno).
URL:https://www.lubakiagenda.net/event/a26-putak-eta-bollerak
LOCATION:Etxebarrieta anaien plaza - Bilbo
STATUS:CONFIRMED
CATEGORIES:
X-ALT-DESC;FMTTYPE=text/html:<p>A26 putak eta bollerak kalera!!  </p><p>Eto
	rri gurekin apirilaren 26an bolleren eguna kalez kale aldarrikatzera. 13:0
	0etan Etxebarria anaien plazatik (Unamuno).  </p><p>----</p><p>26A putas y
	 bolleras a la calle!!  </p><p>Este 26 de abril ven con nosotres a reivind
	icar el día de las bolleras por las calles. A las 13:00 desde la plaza Her
	manos Etxebarrieta (Unamuno).</p>
BEGIN:VALARM
ACTION:DISPLAY
DESCRIPTION:A26 PUTAK ETA BOLLERAK
TRIGGER:-PT1H
END:VALARM
END:VEVENT
END:VCALENDAR
